BEGIN:VCALENDAR
VERSION:2.0
PRODID:-//MacDougal Street West - ECPv6.15.20//NONSGML v1.0//EN
CALSCALE:GREGORIAN
METHOD:PUBLISH
X-WR-CALNAME:MacDougal Street West
X-ORIGINAL-URL:https://macdougalstreetwest.com
X-WR-CALDESC:Events for MacDougal Street West
REFRESH-INTERVAL;VALUE=DURATION:PT1H
X-Robots-Tag:noindex
X-PUBLISHED-TTL:PT1H
BEGIN:VTIMEZONE
TZID:America/Phoenix
BEGIN:STANDARD
TZOFFSETFROM:-0700
TZOFFSETTO:-0700
TZNAME:MST
DTSTART:20250101T000000
END:STANDARD
END:VTIMEZONE
BEGIN:VEVENT
DTSTART;TZID=America/Phoenix:20260717T180000
DTEND;TZID=America/Phoenix:20260717T193000
DTSTAMP:20260421T044042
CREATED:20260313T215558Z
LAST-MODIFIED:20260313T215816Z
UID:3306-1784311200-1784316600@macdougalstreetwest.com
SUMMARY:Prescott United Methodist Church - Open to the Public - Suggested donation to the band $20
DESCRIPTION:
URL:https://macdougalstreetwest.com/event/prescott-united-methodist-church/
LOCATION:Prescott United Methodist Church\, 505 W Gurley St.\, Prescott\, 86301\, United States
CATEGORIES:Public Performances
END:VEVENT
BEGIN:VEVENT
DTSTART;TZID=America/Phoenix:20260726T180000
DTEND;TZID=America/Phoenix:20260726T193000
DTSTAMP:20260421T044042
CREATED:20260202T220144Z
LAST-MODIFIED:20260202T221356Z
UID:3249-1785088800-1785094200@macdougalstreetwest.com
SUMMARY:Tucson Area - Gaslight Music Hall- Tickets not yet on sale
DESCRIPTION:MacDougal Street West tours Laurel Canyon with an Acoustic Celebration!
URL:https://macdougalstreetwest.com/event/tucson-area-gaslight-music-hall-tickets-not-yet-on-sale-2/
LOCATION:The GasLight Music Hall\, 13005 N. Oracle Rd. #165\, Ora Valley\, AZ\, AZ\, 85739\, United States
END:VEVENT
BEGIN:VEVENT
DTSTART;TZID=America/Phoenix:20260727T180000
DTEND;TZID=America/Phoenix:20260727T193000
DTSTAMP:20260421T044042
CREATED:20260202T220723Z
LAST-MODIFIED:20260202T220807Z
UID:3251-1785175200-1785180600@macdougalstreetwest.com
SUMMARY:Tucson Area - Gaslight Theatre - Tickets not on sale yet.
DESCRIPTION:MacDougal Street West tours Laurel Canyon\, An Acoustic Celebration!
URL:https://macdougalstreetwest.com/event/tucson-area-gaslight-theatre-tickets-not-on-sale-yet/
LOCATION:The GasLight Theatre\, 7010 E. Broadway Boulevard\, Tucson\, AZ\, 85710\, United States
CATEGORIES:Public Performances
END:VEVENT
BEGIN:VEVENT
DTSTART;TZID=America/Phoenix:20260919T180000
DTEND;TZID=America/Phoenix:20260919T193000
DTSTAMP:20260421T044042
CREATED:20260202T222032Z
LAST-MODIFIED:20260202T222755Z
UID:3254-1789840800-1789846200@macdougalstreetwest.com
SUMMARY:Prescott\, AZ - The Highlands Center - Tickets not yet on sale
DESCRIPTION:MacDougal Street West Tours Laurel Canyon with an Acoustic Celebration
URL:https://macdougalstreetwest.com/event/prescott-az-the-highlands-center-tickets-not-yet-on-sale/
LOCATION:Highlands Center for Natural History\, 1375 S. Walker Road\, Prescott\, AZ\, 86303\, United States
CATEGORIES:Public Performances
END:VEVENT
BEGIN:VEVENT
DTSTART;TZID=America/Phoenix:20260926T180000
DTEND;TZID=America/Phoenix:20260926T193000
DTSTAMP:20260421T044042
CREATED:20260202T222207Z
LAST-MODIFIED:20260202T222207Z
UID:3256-1790445600-1790451000@macdougalstreetwest.com
SUMMARY:Granville Private Party
DESCRIPTION:
URL:https://macdougalstreetwest.com/event/granville-private-party/
CATEGORIES:Private party
END:VEVENT
END:VCALENDAR