BEGIN:VCALENDAR
VERSION:2.0
PRODID:-//MacDougal Street West - ECPv6.15.20//NONSGML v1.0//EN
CALSCALE:GREGORIAN
METHOD:PUBLISH
X-WR-CALNAME:MacDougal Street West
X-ORIGINAL-URL:https://macdougalstreetwest.com
X-WR-CALDESC:Events for MacDougal Street West
REFRESH-INTERVAL;VALUE=DURATION:PT1H
X-Robots-Tag:noindex
X-PUBLISHED-TTL:PT1H
BEGIN:VTIMEZONE
TZID:America/Phoenix
BEGIN:STANDARD
TZOFFSETFROM:-0700
TZOFFSETTO:-0700
TZNAME:MST
DTSTART:20220101T000000
END:STANDARD
END:VTIMEZONE
BEGIN:VEVENT
DTSTART;TZID=America/Phoenix:20260402T180000
DTEND;TZID=America/Phoenix:20260402T193000
DTSTAMP:20260419T174944
CREATED:20260202T215345Z
LAST-MODIFIED:20260313T214924Z
UID:3246-1775152800-1775158200@macdougalstreetwest.com
SUMMARY:Tucson Area - Gaslight Music Hall - TICKETS NOW ON SALE!
DESCRIPTION:Hello Tucson area friends!!! \nTickets are now available! See you soon❣️ \n  \n  \nGreenwich Village to Laurel Canyon Show
URL:https://macdougalstreetwest.com/event/tucson-area-gaslight-music-hall-tickets-now-on-sale/
LOCATION:The GasLight Music Hall\, 13005 N. Oracle Rd. #165\, Ora Valley\, AZ\, AZ\, 85739\, United States
CATEGORIES:Public Performances
END:VEVENT
BEGIN:VEVENT
DTSTART;TZID=America/Phoenix:20250627T180000
DTEND;TZID=America/Phoenix:20250627T193000
DTSTAMP:20260419T174944
CREATED:20250325T222231Z
LAST-MODIFIED:20250515T223915Z
UID:3124-1751047200-1751052600@macdougalstreetwest.com
SUMMARY:10th Anniversary Show featuring Detour To Laurel Canyon
DESCRIPTION:Come celebrate the 10th Anniversary of MacDougal Street West! \nWe’ll start out with our Peter Paul & Mary Experience\, then introduce you to new band member Jen Harvey as we take a Detour to Laurel Canyon\, featuring music from artists from Laurel Canyon\, such as the Mamas & the Papas\, Linda Ronstadt\, Joni Mitchell\, Grateful Dead\, Beach Boys\, Crosby\, Stills and Nash\, The Byrds\, and more. Guest artist Alicia Previn will join us. \nThis event is open seating\, no tickets required and OPEN TO THE PUBLIC. \nSuggested “Love Offering” of $20 per person appreciated at the door. A portion will be donated to Heifer International. \n \n 
URL:https://macdougalstreetwest.com/event/10th-anniversary-show-featuring-detour-to-laurel-canyon/
LOCATION:Prescott United Methodist Church\, 505 W Gurley St.\, Prescott\, 86301\, United States
CATEGORIES:Public Performances
ATTACH;FMTTYPE=image/webp:https://macdougalstreetwest.com/wp-content/uploads/2025/03/Anniversaary-Show-Poster.webp
END:VEVENT
BEGIN:VEVENT
DTSTART;TZID=America/Phoenix:20250623T180000
DTEND;TZID=America/Phoenix:20250623T193000
DTSTAMP:20260419T174944
CREATED:20250520T225930Z
LAST-MODIFIED:20250520T235604Z
UID:3167-1750701600-1750707000@macdougalstreetwest.com
SUMMARY:Tucson\, AZ - Gaslight Theatre
DESCRIPTION:
URL:https://macdougalstreetwest.com/event/tucson-az-gaslight-theatre/
LOCATION:The GasLight Theatre\, 7010 E. Broadway Boulevard\, Tucson\, AZ\, 85710\, United States
CATEGORIES:Public Performances
END:VEVENT
BEGIN:VEVENT
DTSTART;TZID=America/Phoenix:20250622T180000
DTEND;TZID=America/Phoenix:20250622T193000
DTSTAMP:20260419T174944
CREATED:20250520T225631Z
LAST-MODIFIED:20250520T235744Z
UID:3165-1750615200-1750620600@macdougalstreetwest.com
SUMMARY:Oro Valley\, AZ - Gaslight Music Hall
DESCRIPTION:
URL:https://macdougalstreetwest.com/event/oro-valley-az-gaslight-music-hall/
LOCATION:The GasLight Music Hall\, 13005 N. Oracle Rd. #165\, Ora Valley\, AZ\, AZ\, 85739\, United States
CATEGORIES:Public Performances
END:VEVENT
BEGIN:VEVENT
DTSTART;TZID=America/Phoenix:20250620T180000
DTEND;TZID=America/Phoenix:20250620T193000
DTSTAMP:20260419T174944
CREATED:20250520T224926Z
LAST-MODIFIED:20250520T225727Z
UID:3162-1750442400-1750447800@macdougalstreetwest.com
SUMMARY:Green Valley\, AZ\, Green Valley Recreation Center
DESCRIPTION:
URL:https://macdougalstreetwest.com/event/green-valley-az-green-valley-recreation-center/
LOCATION:Green Valley Recreation Center\, 1111 S. GRV Drive\, Green Valley\, 85614\, United States
CATEGORIES:Public Performances
END:VEVENT
BEGIN:VEVENT
DTSTART;TZID=America/Phoenix:20241216T183000
DTEND;TZID=America/Phoenix:20241216T200000
DTSTAMP:20260419T174944
CREATED:20240919T184552Z
LAST-MODIFIED:20241216T151652Z
UID:3087-1734373800-1734379200@macdougalstreetwest.com
SUMMARY:The Peter\, Paul & Mary Christmas Experience - Prescott\, AZ - The Center on Rosser - TWO SHOWS IN ONE DAY!
DESCRIPTION:MacDougal Street West presents: \nA Very Special Peter\, Paul & Mary Christmas Experience\n\nMonday\, December 16\, 2024 \n\n\n\nTwo shows in one day!\n2:30 PM\, Doors open at 2:00 PM\n6:30 PM\, Doors open at 6:00 PM\n\nFeatured Artist\, Alicia Previn!! aliciaprevin.com\n\nTickets are on sale now! Pre-order your tickets here and save.  $22 advance purchase or $30 at the door. \nWhen purchasing tickets\, please choose the 2:30 pm or 6:30 pm show from the drop down menu. \nPURCHASE TICKETS NOW\nTicket sales will end on Monday\, Dec. 16 at 09:30 am.   However\, you may purchase tickets AT THE DOOR before the performance (cash or personal check only\, please).\nTHE MOST SOUGHT AFTER PETER\, PAUL & MARY TRIBUTE SHOW IN THE COUNTRY!\nThe MacDougal Street West Experience is a Peter\, Paul and Mary tribute band performing the acoustic music and harmonies that changed the world and are still relevant today. \nMembers of MSW have been playing Peter\, Paul & Mary music since their pre-teens. Their respect for these songs shows clearly in the group’s meticulous arrangements. Augmenting the original tunes with MSW’s own years of combined experiences\, the group produces a fresh\, vibrant new sound while preserving the soul and integrity of each classic song. \nOver the past four decades violinist Alicia Previn has been a part of dozens of acclaimed recordings\, toured internationally several times over and established herself as a first call musician with great improvisational skills. An inspired live performer\, her ability to play across genres has made her a fan favorite at venues big and small. Previn has been part of numerous major label groups including The Young Dubliners\, In Tua Nua and Hothouse Flowers as well as recorded with a varied list of artists\, including folk legend Richard Thompson\, indie rockers\, Cracker and heavy metal hit makers\, Great White. Although best known for her work as a session player\, over the years she has recorded numerous demos for a proposed solo projects that have fallen by the way side. For this collection – the first in a series – we gather ten demos from the early 1980’s\, recorded just as she was first making an impression as a studio player. The tracks showcase Previn’s song craft\, mixing plenty of melody with a kaleidoscope of influences\, from dance to indie pop/rock. Currently working on her second solo album\, as well as a series of environmentally themed children’s books\, Whether you catch her live performances as a solo artist or with any of the musicians she accompanies\, Previn’s music is a wonderful listening experience.
URL:https://macdougalstreetwest.com/event/christmas-experience-prescott-az-the-center-on-rosser-two-shows-in-one-day/
LOCATION:The Center on Rosser\, 1280 E. Rosser St.\, Prescott\, 86301\, United States
CATEGORIES:Public Performances
ATTACH;FMTTYPE=image/jpeg:https://macdougalstreetwest.com/wp-content/uploads/2024/09/IMG_6034.jpg
END:VEVENT
BEGIN:VEVENT
DTSTART;TZID=America/Phoenix:20241216T143000
DTEND;TZID=America/Phoenix:20241216T160000
DTSTAMP:20260419T174944
CREATED:20240919T184046Z
LAST-MODIFIED:20241216T151719Z
UID:3082-1734359400-1734364800@macdougalstreetwest.com
SUMMARY:The Peter\, Paul & Mary Christmas Experience - Prescott\, AZ - The Center on Rosser -TWO SHOWS IN ONE DAY!
DESCRIPTION:  \n\n\nMacDougal Street West presents: \nA Very Special Peter\, Paul & Mary Christmas Experience\n\nMonday\, December 16\, 2024 \n\n\n\nTwo shows in one day!\n2:30 PM\, Doors open at 2:00 PM\n6:30 PM\, Doors open at 6:00 PM\n\nFeatured Artist\, Alicia Previn!! aliciaprevin.com\n\nTickets are on sale now! Pre-order your tickets here and save.  $22 advance purchase or $30 at the door. \nWhen purchasing tickets\, please choose the 2:30 pm or 6:30 pm show from the drop down menu. \nPURCHASE TICKETS NOW\nTicket sales will end on Monday\, Dec. 16 at 09:30 am.   However\, you may purchase tickets AT THE DOOR before the performance (cash or personal check only\, please).\nTHE MOST SOUGHT AFTER PETER\, PAUL & MARY TRIBUTE SHOW IN THE COUNTRY!\nThe MacDougal Street West Experience is a Peter\, Paul and Mary tribute band performing the acoustic music and harmonies that changed the world and are still relevant today. \nMembers of MSW have been playing Peter\, Paul & Mary music since their pre-teens. Their respect for these songs shows clearly in the group’s meticulous arrangements. Augmenting the original tunes with MSW’s own years of combined experiences\, the group produces a fresh\, vibrant new sound while preserving the soul and integrity of each classic song. \nOver the past four decades violinist Alicia Previn has been a part of dozens of acclaimed recordings\, toured internationally several times over and established herself as a first call musician with great improvisational skills. An inspired live performer\, her ability to play across genres has made her a fan favorite at venues big and small. Previn has been part of numerous major label groups including The Young Dubliners\, In Tua Nua and Hothouse Flowers as well as recorded with a varied list of artists\, including folk legend Richard Thompson\, indie rockers\, Cracker and heavy metal hit makers\, Great White. Although best known for her work as a session player\, over the years she has recorded numerous demos for a proposed solo projects that have fallen by the way side. For this collection – the first in a series – we gather ten demos from the early 1980’s\, recorded just as she was first making an impression as a studio player. The tracks showcase Previn’s song craft\, mixing plenty of melody with a kaleidoscope of influences\, from dance to indie pop/rock. Currently working on her second solo album\, as well as a series of environmentally themed children’s books\, Whether you catch her live performances as a solo artist or with any of the musicians she accompanies\, Previn’s music is a wonderful listening experience.
URL:https://macdougalstreetwest.com/event/christmas-experience-prescott-az-the-center-on-rosser/
LOCATION:The Center on Rosser\, 1280 E. Rosser St.\, Prescott\, 86301\, United States
CATEGORIES:Public Performances
ATTACH;FMTTYPE=image/jpeg:https://macdougalstreetwest.com/wp-content/uploads/2024/09/IMG_6034.jpg
END:VEVENT
BEGIN:VEVENT
DTSTART;TZID=America/Phoenix:20241214T180000
DTEND;TZID=America/Phoenix:20241214T193000
DTSTAMP:20260419T174944
CREATED:20241123T221119Z
LAST-MODIFIED:20241123T221119Z
UID:3112-1734199200-1734204600@macdougalstreetwest.com
SUMMARY:Tucson Area - Gaslight Music Hall 2 shows in one day! Oro Valley\, AZ
DESCRIPTION:For tickets – https://gaslightmusichall.csstix.com/event-details.php?e=773
URL:https://macdougalstreetwest.com/event/tucson-area-gaslight-music-hall-2-shows-in-one-day-oro-valley-az-2/
LOCATION:The GasLight Music Hall\, 13005 N. Oracle Rd. #165\, Ora Valley\, AZ\, AZ\, 85739\, United States
CATEGORIES:Public Performances
END:VEVENT
BEGIN:VEVENT
DTSTART;TZID=America/Phoenix:20241214T140000
DTEND;TZID=America/Phoenix:20241214T153000
DTSTAMP:20260419T174944
CREATED:20241123T220829Z
LAST-MODIFIED:20241123T220829Z
UID:3108-1734184800-1734190200@macdougalstreetwest.com
SUMMARY:Tucson Area - Gaslight Music Hall 2 shows in one day! Oro Valley\, AZ
DESCRIPTION:For tickets- https://gaslightmusichall.csstix.com/event-details.php?e=773
URL:https://macdougalstreetwest.com/event/tucson-area-gaslight-music-hall-2-shows-in-one-day-oro-valley-az/
LOCATION:The GasLight Music Hall\, 13005 N. Oracle Rd. #165\, Ora Valley\, AZ\, AZ\, 85739\, United States
CATEGORIES:Public Performances
END:VEVENT
BEGIN:VEVENT
DTSTART;TZID=America/Phoenix:20240614T190000
DTEND;TZID=America/Phoenix:20240614T203000
DTSTAMP:20260419T174944
CREATED:20240109T220406Z
LAST-MODIFIED:20240216T190430Z
UID:3006-1718391600-1718397000@macdougalstreetwest.com
SUMMARY:Prescott\, AZ - Prescott Elks Theatre - Reserve your seats now!
DESCRIPTION:To order your tickets: \nhttps://ci.ovationtix.com/36609/production/1193124?performanceId=11430881
URL:https://macdougalstreetwest.com/event/prescott-az-prescott-elks-theatre-tickets-not-on-sale-yet/
LOCATION:Elks Theater\, 117 E. Gurley St.\, Prescott\, AZ\, 86301\, United States
CATEGORIES:Public Performances
END:VEVENT
BEGIN:VEVENT
DTSTART;TZID=America/Phoenix:20240408T180000
DTEND;TZID=America/Phoenix:20240408T193000
DTSTAMP:20260419T174944
CREATED:20240112T225941Z
LAST-MODIFIED:20240216T174720Z
UID:3019-1712599200-1712604600@macdougalstreetwest.com
SUMMARY:Tucson\, AZ - Gaslight Theatre - Reserved seating now on sale!
DESCRIPTION:To purchase tickets\, \nhttps://gaslighttheatre.csstix.com/tickets.php?type=interactive-chart&step=1&c=9675&e=648&d=16366
URL:https://macdougalstreetwest.com/event/tucson-az-gaslight-theatre-tickets-not-on-sale-yet/
LOCATION:The GasLight Theatre\, 7010 E. Broadway Boulevard\, Tucson\, AZ\, 85710\, United States
CATEGORIES:Public Performances
END:VEVENT
BEGIN:VEVENT
DTSTART;TZID=America/Phoenix:20240407T180000
DTEND;TZID=America/Phoenix:20240407T193000
DTSTAMP:20260419T174944
CREATED:20240112T225524Z
LAST-MODIFIED:20240216T174804Z
UID:3015-1712512800-1712518200@macdougalstreetwest.com
SUMMARY:Oro Valley\, AZ - Gaslight Music Hall -  Reserved seating now on sale!
DESCRIPTION:For tickets- \nhttps://gaslightmusichall.csstix.com/tickets.php?type=interactive-chart&step=1&c=3488&e=576&d=3528
URL:https://macdougalstreetwest.com/event/oro-valley-az-gaslight-music-hall-tickets-not-on-sale-yet/
LOCATION:The GasLight Music Hall\, 13005 N. Oracle Rd. #165\, Ora Valley\, AZ\, AZ\, 85739\, United States
CATEGORIES:Public Performances
END:VEVENT
BEGIN:VEVENT
DTSTART;TZID=America/Phoenix:20240322T190000
DTEND;TZID=America/Phoenix:20240322T203000
DTSTAMP:20260419T174944
CREATED:20240216T173806Z
LAST-MODIFIED:20240229T173113Z
UID:3025-1711134000-1711139400@macdougalstreetwest.com
SUMMARY:Prescott Valley Performing Arts - Main Street Theatre - Tickets available now!
DESCRIPTION:To order tickets- pvperformingarts.org
URL:https://macdougalstreetwest.com/event/prescott-valley-performing-arts-main-street-stage-tickets-on-sale-soon/
LOCATION:Main Street Stage\, Presott Valley Performing Arts\, 3235 N. Main St.\, Prescott Valley\, AZ\, 86314\, United States
CATEGORIES:Public Performances
END:VEVENT
BEGIN:VEVENT
DTSTART;TZID=America/Phoenix:20240126T190000
DTEND;TZID=America/Phoenix:20240126T210000
DTSTAMP:20260419T174944
CREATED:20240109T223838Z
LAST-MODIFIED:20240109T224026Z
UID:3010-1706295600-1706302800@macdougalstreetwest.com
SUMMARY:Prescott\, AZ - Jim & Linda Lee Performing Arts Center at Yavapai College
DESCRIPTION:We will be joining the FOLK LEGACY TRIO on stage for two songs! \n“The Folk Legacy Trio has been hailed as “the living library” of music of the great folk era\, delivering songs from the 50s-70s with their signature dynamic vocals and instrumental arrangements. Songs from The Weavers\, The Kingston Trio\, The Limeliters\, Peter Paul & Mary\, The New Christy Minstrels\, The Brothers Four\, The Chad Mitchell Trio\, Tom Paxton\, Judy Collins\, Joan Baez\, Gordon Lightfoot\, Simon & Garfunkel\, John Denver\, and many others. Blending stories\, history and humor\, they have received accolades from venues across the country of “BEST SHOW EVER.”  \nThe Folk Legacy Trio are George Grove\, formerly with the Kingston Trio for 41 years\, Rick Dougherty\, former member of the Limeliters and Kingston Trio for 25 years and Jerry Siggins\, former lead singer for 27 years of the legendary doo-wop group The Diamonds.” \n 
URL:https://macdougalstreetwest.com/event/prescott-az-jim-linda-lee-performing-arts-center-at-yavapai-college/
LOCATION:Jim & Linda Lee Performing Arts Center\, 1100 East Sheldon St.\, Prescott\, 86301\, United States
CATEGORIES:Public Performances
END:VEVENT
BEGIN:VEVENT
DTSTART;TZID=America/Phoenix:20231218T190000
DTEND;TZID=America/Phoenix:20231218T201500
DTSTAMP:20260419T174944
CREATED:20220308T223324Z
LAST-MODIFIED:20231108T174509Z
UID:2634-1702926000-1702930500@macdougalstreetwest.com
SUMMARY:Green Valley\, AZ  Community Performing Arts Center Two Show in one day! Tickets now available!
DESCRIPTION:
URL:https://macdougalstreetwest.com/event/green-valley-az-community-performing-arts-center-tickets-not-for-sale-yet/
LOCATION:Community Performance and Art Center\, 1250 W. Continental Rd.\, Green Valley\, AZ\, 85622\, United States
CATEGORIES:Public Performances
END:VEVENT
BEGIN:VEVENT
DTSTART;TZID=America/Phoenix:20231218T150000
DTEND;TZID=America/Phoenix:20231218T161500
DTSTAMP:20260419T174944
CREATED:20230821T004144Z
LAST-MODIFIED:20231108T174355Z
UID:2951-1702911600-1702916100@macdougalstreetwest.com
SUMMARY:Green Valley\, AZ  Community Performing Arts Center Two Show in one day! Tickets now available!
DESCRIPTION:
URL:https://macdougalstreetwest.com/event/green-valley-az-community-performing-arts-center-two-show-in-one-day-tickets-not-for-sale-yet/
LOCATION:Community Performance and Art Center\, 1250 W. Continental Rd.\, Green Valley\, AZ\, 85622\, United States
CATEGORIES:Public Performances
END:VEVENT
BEGIN:VEVENT
DTSTART;TZID=America/Phoenix:20231216T180000
DTEND;TZID=America/Phoenix:20231216T193000
DTSTAMP:20260419T174944
CREATED:20220504T235040Z
LAST-MODIFIED:20231108T174236Z
UID:2676-1702749600-1702755000@macdougalstreetwest.com
SUMMARY:Tucson\, AZ/Oro Valley\, AZ - Gaslight Music Hall - 2 shows in one day! Tickets now available!
DESCRIPTION:A Peter\, Paul & Mary Christmas Experience!
URL:https://macdougalstreetwest.com/event/tucson-az-oro-valley-az-gaslight-music-hall-2-shows-in-one-day-tickets-not-on-sale-yet-2/
LOCATION:The GasLight Music Hall\, 13005 N. Oracle Rd. #165\, Ora Valley\, AZ\, AZ\, 85739\, United States
CATEGORIES:Public Performances
END:VEVENT
BEGIN:VEVENT
DTSTART;TZID=America/Phoenix:20231216T140000
DTEND;TZID=America/Phoenix:20231216T153000
DTSTAMP:20260419T174944
CREATED:20220504T234743Z
LAST-MODIFIED:20231108T174107Z
UID:2673-1702735200-1702740600@macdougalstreetwest.com
SUMMARY:Tucson\, AZ/Oro Valley\, AZ - Gaslight Music Hall - 2 shows in one day! - Tickets now available!
DESCRIPTION:Peter\, Paul & Mary Christmas Experience
URL:https://macdougalstreetwest.com/event/tucson-az-oro-valley-az-gaslight-music-hall-2-shows-in-one-day-tickets-not-on-sale-yet/
LOCATION:The GasLight Music Hall\, 13005 N. Oracle Rd. #165\, Ora Valley\, AZ\, AZ\, 85739\, United States
CATEGORIES:Public Performances
END:VEVENT
BEGIN:VEVENT
DTSTART;TZID=America/Phoenix:20231215T183000
DTEND;TZID=America/Phoenix:20231215T200000
DTSTAMP:20260419T174944
CREATED:20231006T224630Z
LAST-MODIFIED:20231108T173922Z
UID:2970-1702665000-1702670400@macdougalstreetwest.com
SUMMARY:Oracle\, AZ - Oracle Center for the Performing Arts - Tickets now available!
DESCRIPTION:Back to see all these wonderful friends and present our Christmas Show.
URL:https://macdougalstreetwest.com/event/oracle-az-oracle-center-for-the-performing-arts-tickets-not-on-sale-yet/
LOCATION:Oracle Center for the Arts- Oracle Piano Society\, 700 E. Kingston St.\, Oracle\, AZ\, 85623\, United States
CATEGORIES:Public Performances
END:VEVENT
BEGIN:VEVENT
DTSTART;TZID=America/Phoenix:20231210T143000
DTEND;TZID=America/Phoenix:20231210T160000
DTSTAMP:20260419T174944
CREATED:20230518T182640Z
LAST-MODIFIED:20231108T173157Z
UID:2913-1702218600-1702224000@macdougalstreetwest.com
SUMMARY:Prescott\, AZ - Elks Performing Arts Center (3rd floor) Crystal Room - Tickets now available!
DESCRIPTION: 
URL:https://macdougalstreetwest.com/event/prescott-az-elks-performing-arts-center-3rd-floor-crystal-room-tickets-not-on-sale-yet/
LOCATION:Elks Theater and Performing Arts Center (Crystal Room – 3rd floor)\, 117 E. Gurley St. #115\, Prescott\, AZ\, 86301\, United States
CATEGORIES:Public Performances
END:VEVENT
BEGIN:VEVENT
DTSTART;TZID=America/Phoenix:20231203T180000
DTEND;TZID=America/Phoenix:20231203T193000
DTSTAMP:20260419T174944
CREATED:20230518T181519Z
LAST-MODIFIED:20231112T155619Z
UID:2910-1701626400-1701631800@macdougalstreetwest.com
SUMMARY:Mesa\, AZ - THE VENUE at Farnsworth Hall - CANCELLED by TAD due to circumstances beyond control
DESCRIPTION:BACK BY POPULAR DEMAND… this time for our Christmas show.
URL:https://macdougalstreetwest.com/event/mesa-az-the-venue-at-farnsworth-halltickets-not-on-sale-yet/
LOCATION:THE VENUE at Farnsworth Hall\, 6159 E. University Dr.\, Mesa\, AZ\, 85205\, United States
CATEGORIES:Public Performances
END:VEVENT
BEGIN:VEVENT
DTSTART;TZID=America/Phoenix:20231201T143000
DTEND;TZID=America/Phoenix:20231201T160000
DTSTAMP:20260419T174944
CREATED:20231006T220723Z
LAST-MODIFIED:20231112T155217Z
UID:2964-1701441000-1701446400@macdougalstreetwest.com
SUMMARY:Prescott Valley\, AZ -Prescott Valley Performing Arts- Main Street Theatre - Tickets now available!
DESCRIPTION:We had a blast here last March and they wanted us back for our Christmas Show. \nCOME SUPPORT THIS WONDERFUL THEATRE FOR KIDS OF ALL AGES!!!
URL:https://macdougalstreetwest.com/event/prescott-valley-az-prescott-valley-performing-arts-main-street-theatre-ticket-not-on-sale-yet/
LOCATION:Main Street Stage\, Presott Valley Performing Arts\, 3235 N. Main St.\, Prescott Valley\, AZ\, 86314\, United States
CATEGORIES:Public Performances
END:VEVENT
BEGIN:VEVENT
DTSTART;TZID=America/Phoenix:20231015T143000
DTEND;TZID=America/Phoenix:20231015T160000
DTSTAMP:20260419T174944
CREATED:20230821T002021Z
LAST-MODIFIED:20230821T002021Z
UID:2946-1697380200-1697385600@macdougalstreetwest.com
SUMMARY:Prescott\, AZ -  Highland Center for Natural History
DESCRIPTION:Photo of MacDougal Street West backstage with Noel Paul Stookey and Peter Yarrow after their performance in Mesa\, AZ\, March of 2023. \n“Keeping the music alive!” \nSunday\, Oct. 15\, 2023 at 2:30 PM\nMacDougal Street West: A Peter\, Paul & Mary Experience will be performing in the beautiful outdoors at the Highlands Center For Natural History\n1375 S Walker Rd. Prescott\, AZ 86303\n928-776-9550\nTickets now available\nhttps://hcnh-macdougalstreetwest10-15-23.eventbrite.com
URL:https://macdougalstreetwest.com/event/prescott-az-highland-center-for-natural-history/
LOCATION:Highlands Center for Natural History\, 1375 S. Walker Road\, Prescott\, AZ\, 86303\, United States
CATEGORIES:Public Performances
END:VEVENT
BEGIN:VEVENT
DTSTART;TZID=America/Phoenix:20231001T160000
DTEND;TZID=America/Phoenix:20231001T173000
DTSTAMP:20260419T174944
CREATED:20230518T180209Z
LAST-MODIFIED:20230518T180209Z
UID:2903-1696176000-1696181400@macdougalstreetwest.com
SUMMARY:Sedona\, AZ - Mary D. Fisher Theatre - TWO SHOW DATES (Tickets not on sale yet)
DESCRIPTION:
URL:https://macdougalstreetwest.com/event/sedona-az-mary-d-fisher-theatre-two-show-dates-tickets-not-on-sale-yet-2/
LOCATION:Mary D. Fisher Theatre\, 2030 AZ-89A suite a-3\, Sedona\, AZ\, 86336\, United States
CATEGORIES:Public Performances
END:VEVENT
BEGIN:VEVENT
DTSTART;TZID=America/Phoenix:20230930T160000
DTEND;TZID=America/Phoenix:20230930T173000
DTSTAMP:20260419T174944
CREATED:20230518T175924Z
LAST-MODIFIED:20230518T175924Z
UID:2900-1696089600-1696095000@macdougalstreetwest.com
SUMMARY:Sedona\, AZ - Mary D. Fisher Theatre - TWO SHOW DATES (Tickets not on sale yet)
DESCRIPTION:
URL:https://macdougalstreetwest.com/event/sedona-az-mary-d-fisher-theatre-two-show-dates-tickets-not-on-sale-yet/
LOCATION:Mary D. Fisher Theatre\, 2030 AZ-89A suite a-3\, Sedona\, AZ\, 86336\, United States
CATEGORIES:Public Performances
END:VEVENT
BEGIN:VEVENT
DTSTART;TZID=America/Phoenix:20230813T150000
DTEND;TZID=America/Phoenix:20230813T170000
DTSTAMP:20260419T174944
CREATED:20230801T235209Z
LAST-MODIFIED:20230801T235209Z
UID:2939-1691938800-1691946000@macdougalstreetwest.com
SUMMARY:
DESCRIPTION:We are looking forward to opening the show for the Folk Legacy Trio again! \nOnly $25.00 at the door! (cash only) George Grove from the Kingston Trio\, Rick Doughtery from the Kingston Trio and Limeliters and Jerry Siggins from the Diamonds. Don’t miss this wonderful event!
URL:https://macdougalstreetwest.com/event/2939/
LOCATION:The Scottsdale Plaza Resort & Villas\, 7200 N. Scottsdale Rd.\, Scottsdale\, AZ\, 85253\, United States
CATEGORIES:Public Performances
END:VEVENT
BEGIN:VEVENT
DTSTART;TZID=America/Phoenix:20230722T190000
DTEND;TZID=America/Phoenix:20230722T203000
DTSTAMP:20260419T174944
CREATED:20230503T021102Z
LAST-MODIFIED:20230610T210047Z
UID:2881-1690052400-1690057800@macdougalstreetwest.com
SUMMARY:Presott\, AZ - Elks Theatre & Performing Arts Center
DESCRIPTION:Announcing 🎉 our summertime show here in Prescott is set and tickets are now on sale for assigned seating. We look forward to performing at our hometown beautifully restored Elks Theatre Performing Arts Center!  \nhttps://ci.ovationtix.com/36609/production/1159305?performanceId=11275450 \nGroup photo by Dale O‘Dell \n \n 
URL:https://macdougalstreetwest.com/event/presott-az-elks-theatre-performing-arts-center/
LOCATION:Elks Theater\, 117 E. Gurley St.\, Prescott\, AZ\, 86301\, United States
CATEGORIES:Public Performances
END:VEVENT
BEGIN:VEVENT
DTSTART;TZID=America/Phoenix:20230416T140000
DTEND;TZID=America/Phoenix:20230416T153000
DTSTAMP:20260419T174944
CREATED:20220518T223307Z
LAST-MODIFIED:20220518T223307Z
UID:2693-1681653600-1681659000@macdougalstreetwest.com
SUMMARY:Wickenburg (AZ) Friends of Music
DESCRIPTION:
URL:https://macdougalstreetwest.com/event/wickenburg-az-friends-of-music/
LOCATION:Wickenburg Community Center\, 160 N. Valentine\, Wickenburg\, AZ\, 85390\, United States
CATEGORIES:Public Performances
END:VEVENT
BEGIN:VEVENT
DTSTART;TZID=America/Phoenix:20230324T183000
DTEND;TZID=America/Phoenix:20230324T200000
DTSTAMP:20260419T174944
CREATED:20230206T205553Z
LAST-MODIFIED:20230206T205919Z
UID:2862-1679682600-1679688000@macdougalstreetwest.com
SUMMARY:Prescott Valley - Main Stage Theater - Prescott Valley Performing Arts
DESCRIPTION:Next to Findlay Toyota Center on Main Street! 3235 N. Main Street\, Prescott Valley\, AZ 86314 \nIf you haven’t had the opportunity to attend any of the Performing Arts and Children’s Theatre shows in this new location\, you are in for a real treat! The seating is very comfortable and visibility is excellent! \nPhone 928-436-8340 \n 
URL:https://macdougalstreetwest.com/event/prescott-valley-main-stage-theater-prescott-valley-performing-arts/
LOCATION:Main Street Stage\, Presott Valley Performing Arts\, 3235 N. Main St.\, Prescott Valley\, AZ\, 86314\, United States
CATEGORIES:Public Performances
END:VEVENT
BEGIN:VEVENT
DTSTART;TZID=America/Phoenix:20230312T140000
DTEND;TZID=America/Phoenix:20230312T153000
DTSTAMP:20260419T174944
CREATED:20220921T183144Z
LAST-MODIFIED:20230105T203828Z
UID:2809-1678629600-1678635000@macdougalstreetwest.com
SUMMARY:Gold Canyon\, AZ - Gold Canyon United Methodist Church
DESCRIPTION:This will be a very fun afternoon performing for new friends at Gold Canyon UMC!
URL:https://macdougalstreetwest.com/event/gold-canyon-az-gold-canyon-united-methodist-church/
LOCATION:Gold Canyon United Methodist Church\, 6640 S. Kings Panch Rd.\, Gold Canyon\, AZ\, 85118\, United States
CATEGORIES:Public Performances
END:VEVENT
END:VCALENDAR