BEGIN:VCALENDAR
VERSION:2.0
PRODID:-//MacDougal Street West - ECPv6.15.20//NONSGML v1.0//EN
CALSCALE:GREGORIAN
METHOD:PUBLISH
X-ORIGINAL-URL:https://macdougalstreetwest.com
X-WR-CALDESC:Events for MacDougal Street West
REFRESH-INTERVAL;VALUE=DURATION:PT1H
X-Robots-Tag:noindex
X-PUBLISHED-TTL:PT1H
BEGIN:VTIMEZONE
TZID:America/Phoenix
BEGIN:STANDARD
TZOFFSETFROM:-0700
TZOFFSETTO:-0700
TZNAME:MST
DTSTART:20200101T000000
END:STANDARD
END:VTIMEZONE
BEGIN:VEVENT
DTSTART;TZID=America/Phoenix:20230813T150000
DTEND;TZID=America/Phoenix:20230813T170000
DTSTAMP:20260419T194051
CREATED:20230801T235209Z
LAST-MODIFIED:20230801T235209Z
UID:2939-1691938800-1691946000@macdougalstreetwest.com
SUMMARY:
DESCRIPTION:We are looking forward to opening the show for the Folk Legacy Trio again! \nOnly $25.00 at the door! (cash only) George Grove from the Kingston Trio\, Rick Doughtery from the Kingston Trio and Limeliters and Jerry Siggins from the Diamonds. Don’t miss this wonderful event!
URL:https://macdougalstreetwest.com/event/2939/
LOCATION:The Scottsdale Plaza Resort & Villas\, 7200 N. Scottsdale Rd.\, Scottsdale\, AZ\, 85253\, United States
CATEGORIES:Public Performances
END:VEVENT
BEGIN:VEVENT
DTSTART;TZID=America/Phoenix:20230722T190000
DTEND;TZID=America/Phoenix:20230722T203000
DTSTAMP:20260419T194051
CREATED:20230503T021102Z
LAST-MODIFIED:20230610T210047Z
UID:2881-1690052400-1690057800@macdougalstreetwest.com
SUMMARY:Presott\, AZ - Elks Theatre & Performing Arts Center
DESCRIPTION:Announcing 🎉 our summertime show here in Prescott is set and tickets are now on sale for assigned seating. We look forward to performing at our hometown beautifully restored Elks Theatre Performing Arts Center!  \nhttps://ci.ovationtix.com/36609/production/1159305?performanceId=11275450 \nGroup photo by Dale O‘Dell \n \n 
URL:https://macdougalstreetwest.com/event/presott-az-elks-theatre-performing-arts-center/
LOCATION:Elks Theater\, 117 E. Gurley St.\, Prescott\, AZ\, 86301\, United States
CATEGORIES:Public Performances
END:VEVENT
BEGIN:VEVENT
DTSTART;TZID=America/Phoenix:20230416T140000
DTEND;TZID=America/Phoenix:20230416T153000
DTSTAMP:20260419T194051
CREATED:20220518T223307Z
LAST-MODIFIED:20220518T223307Z
UID:2693-1681653600-1681659000@macdougalstreetwest.com
SUMMARY:Wickenburg (AZ) Friends of Music
DESCRIPTION:
URL:https://macdougalstreetwest.com/event/wickenburg-az-friends-of-music/
LOCATION:Wickenburg Community Center\, 160 N. Valentine\, Wickenburg\, AZ\, 85390\, United States
CATEGORIES:Public Performances
END:VEVENT
BEGIN:VEVENT
DTSTART;TZID=America/Phoenix:20230324T183000
DTEND;TZID=America/Phoenix:20230324T200000
DTSTAMP:20260419T194051
CREATED:20230206T205553Z
LAST-MODIFIED:20230206T205919Z
UID:2862-1679682600-1679688000@macdougalstreetwest.com
SUMMARY:Prescott Valley - Main Stage Theater - Prescott Valley Performing Arts
DESCRIPTION:Next to Findlay Toyota Center on Main Street! 3235 N. Main Street\, Prescott Valley\, AZ 86314 \nIf you haven’t had the opportunity to attend any of the Performing Arts and Children’s Theatre shows in this new location\, you are in for a real treat! The seating is very comfortable and visibility is excellent! \nPhone 928-436-8340 \n 
URL:https://macdougalstreetwest.com/event/prescott-valley-main-stage-theater-prescott-valley-performing-arts/
LOCATION:Main Street Stage\, Presott Valley Performing Arts\, 3235 N. Main St.\, Prescott Valley\, AZ\, 86314\, United States
CATEGORIES:Public Performances
END:VEVENT
BEGIN:VEVENT
DTSTART;TZID=America/Phoenix:20230312T140000
DTEND;TZID=America/Phoenix:20230312T153000
DTSTAMP:20260419T194051
CREATED:20220921T183144Z
LAST-MODIFIED:20230105T203828Z
UID:2809-1678629600-1678635000@macdougalstreetwest.com
SUMMARY:Gold Canyon\, AZ - Gold Canyon United Methodist Church
DESCRIPTION:This will be a very fun afternoon performing for new friends at Gold Canyon UMC!
URL:https://macdougalstreetwest.com/event/gold-canyon-az-gold-canyon-united-methodist-church/
LOCATION:Gold Canyon United Methodist Church\, 6640 S. Kings Panch Rd.\, Gold Canyon\, AZ\, 85118\, United States
CATEGORIES:Public Performances
END:VEVENT
BEGIN:VEVENT
DTSTART;TZID=America/Phoenix:20230209T190000
DTEND;TZID=America/Phoenix:20230209T203000
DTSTAMP:20260419T194051
CREATED:20220502T234654Z
LAST-MODIFIED:20230117T205737Z
UID:2660-1675969200-1675974600@macdougalstreetwest.com
SUMMARY:Mesa\, AZ - THE VENUE at Farnsworth Hall\, Tickets on sale now!
DESCRIPTION:We are looking forward to seeing our Mesa area friends and making new ones! \nPhone number to purchase tickets – 480-735-8938
URL:https://macdougalstreetwest.com/event/mesa-az-the-venue-at-farnsworth-hall-tickets-not-on-sale-yet/
LOCATION:THE VENUE at Farnsworth Hall\, 6159 E. University Dr.\, Mesa\, AZ\, 85205\, United States
CATEGORIES:Public Performances
END:VEVENT
BEGIN:VEVENT
DTSTART;TZID=America/Phoenix:20230123T180000
DTEND;TZID=America/Phoenix:20230123T193000
DTSTAMP:20260419T194051
CREATED:20220308T222444Z
LAST-MODIFIED:20230121T152246Z
UID:2628-1674496800-1674502200@macdougalstreetwest.com
SUMMARY:Tucson\, AZ  Gaslight Theatre\, SOLD OUT!
DESCRIPTION:Sold out!
URL:https://macdougalstreetwest.com/event/tucson-az-gaslight-theater-ticket-not-for-sale-yet/
LOCATION:The GasLight Theatre\, 7010 E. Broadway Boulevard\, Tucson\, AZ\, 85710\, United States
CATEGORIES:Public Performances
END:VEVENT
BEGIN:VEVENT
DTSTART;TZID=America/Phoenix:20230122T180000
DTEND;TZID=America/Phoenix:20230122T193000
DTSTAMP:20260419T194051
CREATED:20220308T222104Z
LAST-MODIFIED:20230121T152326Z
UID:2626-1674410400-1674415800@macdougalstreetwest.com
SUMMARY:Oro Valley\, AZ Gaslight Music Hall\, SOLD OUT
DESCRIPTION:Sold out!\n\n\n\n\n 
URL:https://macdougalstreetwest.com/event/oro-valley-az-gaslight-music-hall-tickets-not-for-sale-yet/
LOCATION:The GasLight Music Hall\, 13005 N. Oracle Rd. #165\, Ora Valley\, AZ\, AZ\, 85739\, United States
CATEGORIES:Public Performances
END:VEVENT
BEGIN:VEVENT
DTSTART;TZID=America/Phoenix:20230121T183000
DTEND;TZID=America/Phoenix:20230121T200000
DTSTAMP:20260419T194051
CREATED:20220902T225516Z
LAST-MODIFIED:20220902T225908Z
UID:2790-1674325800-1674331200@macdougalstreetwest.com
SUMMARY:Oracle\, AZ- Oracle Center for the Arts
DESCRIPTION:We are looking forward to meeting our newest friends in Oracle\, AZ!
URL:https://macdougalstreetwest.com/event/oracle-az-oracle-center-for-the-arts/
LOCATION:Oracle Center for the Arts- Oracle Piano Society\, 700 E. Kingston St.\, Oracle\, AZ\, 85623\, United States
CATEGORIES:Public Performances
END:VEVENT
BEGIN:VEVENT
DTSTART;TZID=America/Phoenix:20221130T190000
DTEND;TZID=America/Phoenix:20221130T203000
DTSTAMP:20260419T194051
CREATED:20220622T230818Z
LAST-MODIFIED:20260205T151348Z
UID:2706-1669834800-1669840200@macdougalstreetwest.com
SUMMARY:Laughlin\, NV\, Riverside Resort Hotel & Casino\, Don's Celebrity Theatre 5 night run!
DESCRIPTION:We are so excited to be returning to Don’s Celebrity Theatre\, Riverside Resort Hotel & Casino for our Peter\, Paul & Mary Christmas Experience! \nIf you are planning on coming to our Christmas shows at Don’s Celebrity Theatre at the Riverside Resort Hotel and Casino\, Nov. 30th\, Dec. 1st\, 2nd\, 3rd or 4th\, here is a way to save. Rooms are inexpensive right now\, but as the holidays get closer the rates will go up. There is a free 72 hour cancellation period.\nCall 702-298-2535 \n  \n 
URL:https://macdougalstreetwest.com/event/laughlin-nv-riverside-resort-hotel-casino-dons-celebrity-theatre-4-night-run-tickets-not-on-sale-yet/
LOCATION:Riverside Resort Hotel and Casino\, PMB 500 1650 S. Casino Dr.\, Laughlin\, NV\, 89029\, United States
CATEGORIES:Public Performances
END:VEVENT
BEGIN:VEVENT
DTSTART;TZID=America/Phoenix:20220916T150000
DTEND;TZID=America/Phoenix:20220916T163000
DTSTAMP:20260419T194051
CREATED:20220426T234518Z
LAST-MODIFIED:20220426T234818Z
UID:2654-1663340400-1663345800@macdougalstreetwest.com
SUMMARY:Prescott\, AZ\, Highland Center - TWO SHOWS SAME DAY! 3:00 & 7:00 PM
DESCRIPTION:
URL:https://macdougalstreetwest.com/event/prescott-az-highland-center-two-shows-same-day-300-700-pm/
LOCATION:Highlands Center for Natural History\, 1375 S. Walker Road\, Prescott\, AZ\, 86303\, United States
CATEGORIES:Public Performances
END:VEVENT
BEGIN:VEVENT
DTSTART;TZID=America/Phoenix:20220827T160000
DTEND;TZID=America/Phoenix:20220827T173000
DTSTAMP:20260419T194051
CREATED:20220504T215051Z
LAST-MODIFIED:20220622T224013Z
UID:2670-1661616000-1661621400@macdougalstreetwest.com
SUMMARY:Sedona\, AZ - Two evening performances! Mary D. Fisher Theatre (Tickets now on sale!)
DESCRIPTION:A beautiful venue for 2nd special night of Peter\, Paul & Mary Music! \nFor tickets click here\, \nhttps://sedonafilmfestival.com/event/macdougal-street-west-a-peter-paul-and-mary-experience/2022-08-26/
URL:https://macdougalstreetwest.com/event/sedona-az-two-evening-performances-mary-d-fisher-theatre-tickets-not-on-sale-yet-2/
LOCATION:Mary D. Fisher Theatre\, 2030 AZ-89A suite a-3\, Sedona\, AZ\, 86336\, United States
CATEGORIES:Public Performances
END:VEVENT
BEGIN:VEVENT
DTSTART;TZID=America/Phoenix:20220826T190000
DTEND;TZID=America/Phoenix:20220826T203000
DTSTAMP:20260419T194051
CREATED:20220504T214353Z
LAST-MODIFIED:20220622T223831Z
UID:2668-1661540400-1661545800@macdougalstreetwest.com
SUMMARY:Sedona\, AZ - Two evening performances! Mary D. Fisher Theatre (Tickets now on sale!)
DESCRIPTION:We are looking forward to our return the Mary D. Fisher Theatre! \nFor tickets click here\, \nhttps://sedonafilmfestival.com/event/macdougal-street-west-a-peter-paul-and-mary-experience/2022-08-26/
URL:https://macdougalstreetwest.com/event/sedona-az-two-evening-performances-mary-d-fisher-theatre-tickets-not-on-sale-yet/
LOCATION:Mary D. Fisher Theatre\, 2030 AZ-89A suite a-3\, Sedona\, AZ\, 86336\, United States
CATEGORIES:Public Performances
END:VEVENT
BEGIN:VEVENT
DTSTART;TZID=America/Phoenix:20220723T190000
DTEND;TZID=America/Phoenix:20220723T203000
DTSTAMP:20260419T194051
CREATED:20220303T225305Z
LAST-MODIFIED:20220421T214820Z
UID:2620-1658602800-1658608200@macdougalstreetwest.com
SUMMARY:Prescott\, AZ Elks Theatre! TICKET ARE NOW ON SALE! Reserve your seats
DESCRIPTION:
URL:https://macdougalstreetwest.com/event/prescott-az-elks-theatre-tickets-not-for-sale-yet-but-mark-your-calendars/
LOCATION:Elks Theater and Performing Arts Center (Crystal Room – 3rd floor)\, 117 E. Gurley St. #115\, Prescott\, AZ\, 86301\, United States
CATEGORIES:Public Performances
END:VEVENT
BEGIN:VEVENT
DTSTART;TZID=America/Phoenix:20220403T143000
DTEND;TZID=America/Phoenix:20220403T150000
DTSTAMP:20260419T194051
CREATED:20220303T224256Z
LAST-MODIFIED:20220303T224256Z
UID:2615-1648996200-1648998000@macdougalstreetwest.com
SUMMARY:Tucson\, AZ\, Performing at the Tucson Folk Festival
DESCRIPTION:We will be performing Sunday / April 3rd at 2:30 PM on the North Church Stage\, 200 N. Church St. (Just North of the N. Church Ave. & Alameda St. intersection)
URL:https://macdougalstreetwest.com/event/tucson-az-performing-at-the-tucson-folk-festival/
LOCATION:Tucson Folk Festival\, 200 N. Church Ave.\, Tucson\, AZ\, 85701\, United States
CATEGORIES:Public Performances
END:VEVENT
BEGIN:VEVENT
DTSTART;TZID=America/Phoenix:20220330T180000
DTEND;TZID=America/Phoenix:20220330T193000
DTSTAMP:20260419T194051
CREATED:20220108T194829Z
LAST-MODIFIED:20220108T194829Z
UID:2566-1648663200-1648668600@macdougalstreetwest.com
SUMMARY:Tucson Area\, Back to Gaslight Music Hall!
DESCRIPTION:Photo credit: Charles Gabrean\nReturning to a favorite venue in Oro Valley\, AZ!
URL:https://macdougalstreetwest.com/event/tucson-area-back-to-gaslight-music-hall/
LOCATION:The GasLight Music Hall\, 13005 N. Oracle Rd. #165\, Ora Valley\, AZ\, AZ\, 85739\, United States
CATEGORIES:Public Performances
END:VEVENT
BEGIN:VEVENT
DTSTART;TZID=America/Phoenix:20220329T180000
DTEND;TZID=America/Phoenix:20220329T200000
DTSTAMP:20260419T194051
CREATED:20220303T215959Z
LAST-MODIFIED:20220303T215959Z
UID:2605-1648576800-1648584000@macdougalstreetwest.com
SUMMARY:Tucson\, AZ Featured Guest Artists\, WoodSongs Music Coffeehouse
DESCRIPTION:From the staff at WoodSongs Music Coffeehouse\, \n“EXCITING NEWS!!\nOur pre-Folk Festival show at WoodSongs Coffeehouse Tucson featuring Macdougal Street West on March 29th is now a Benefit Concert\, supporting Tucson FrontPorch Music Association Inc.\nThis 501(c)(3) public charity has formed to advocate for acoustic music in Tucson.\nVisit the website to learn more:\ntucsonfrontporchmusicassninc.godaddysites.com\nA Suggested Donation of $10 at the door; reservations necessary at 520.314.1034 will be confirmed”
URL:https://macdougalstreetwest.com/event/tucson-az-featured-guest-artists-woodsongs-music-coffeehouse/
LOCATION:WoodSongs Coffee House Tucson\, 830 E. 17th St.\, Tucson\, AZ\, 85719\, United States
CATEGORIES:Public Performances
END:VEVENT
BEGIN:VEVENT
DTSTART;TZID=America/Phoenix:20220222T183000
DTEND;TZID=America/Phoenix:20220222T200000
DTSTAMP:20260419T194051
CREATED:20220108T201531Z
LAST-MODIFIED:20220108T201531Z
UID:2571-1645554600-1645560000@macdougalstreetwest.com
SUMMARY:Prescott\, AZ - Celebrate "TUES"day 2/22/22 Birthday\, 3rd Floor\, Crystal Ball Room
DESCRIPTION:Come celebrate Mary’s ??th birthday! Cupcakes for all!
URL:https://macdougalstreetwest.com/event/prescott-az-celebrate-tuesday-2-22-22-birthday-3rd-floor-crystal-ball-room/
LOCATION:Elks Theater and Performing Arts Center\, 117 E. Gurley St. #115\, Prescott\, AZ\, 86301\, United States
CATEGORIES:Public Performances
END:VEVENT
BEGIN:VEVENT
DTSTART;TZID=America/Phoenix:20220218T190000
DTEND;TZID=America/Phoenix:20220218T203000
DTSTAMP:20260419T194051
CREATED:20200312T221029Z
LAST-MODIFIED:20220109T032645Z
UID:2250-1645210800-1645216200@macdougalstreetwest.com
SUMMARY:Brenda\, AZ Desert Gold RV Resort\, back again for a 4rd time!
DESCRIPTION:Back by popular demand! This will be our third show at Desert Gold and we are looking forward to seeing everybody! Call the office to purchase tickets- (928)927-7605 \n 
URL:https://macdougalstreetwest.com/event/brenda-az-desert-gold-rv-resort-back-again-for-a-3rd-time/
LOCATION:Desert Gold RV Resort\, 46628 Hwy 60\, Salome\, AZ\, 85348\, United States
CATEGORIES:Public Performances
END:VEVENT
BEGIN:VEVENT
DTSTART;TZID=America/Phoenix:20220216T190000
DTEND;TZID=America/Phoenix:20220216T203000
DTSTAMP:20260419T194051
CREATED:20210114T185634Z
LAST-MODIFIED:20220109T032527Z
UID:2404-1645038000-1645043400@macdougalstreetwest.com
SUMMARY:Quartzsite\, AZ Returning for our 4th performance!
DESCRIPTION:
URL:https://macdougalstreetwest.com/event/quartzsite-az-returning-for-our-4th-performance/
LOCATION:Quartzsite Improvement Association\, 235 Ironwood St.\, Quartzsite\,\, AZ\, 85346\, United States
CATEGORIES:Public Performances
END:VEVENT
BEGIN:VEVENT
DTSTART;TZID=America/Phoenix:20220215T190000
DTEND;TZID=America/Phoenix:20220215T203000
DTSTAMP:20260419T194051
CREATED:20210408T195039Z
LAST-MODIFIED:20220109T032451Z
UID:2422-1644951600-1644957000@macdougalstreetwest.com
SUMMARY:Yuma\, AZ- Sun Vista RV Resort
DESCRIPTION:This will be our first time to the beautiful Sun Vista RV Resort and we are truly looking forward to meeting all those wonderful Peter\, Paul & Mary music fans there!
URL:https://macdougalstreetwest.com/event/yuma-az-sun-vista-rv-resort/
LOCATION:Sun Vista RV Resort\, 7201 E. 32nd St.\, Yuma\, AZ\, 85365\, United States
CATEGORIES:Public Performances
END:VEVENT
BEGIN:VEVENT
DTSTART;TZID=America/Phoenix:20211221T183000
DTEND;TZID=America/Phoenix:20211221T200000
DTSTAMP:20260419T194051
CREATED:20211111T183507Z
LAST-MODIFIED:20220303T225543Z
UID:2559-1640111400-1640116800@macdougalstreetwest.com
SUMMARY:SOLD OUT AGAIN! Encore Show added Prescott \, AZ Elks Performing Arts Center
DESCRIPTION:Come celebrate the Holiday Season with A Peter\, Paul & Mary Christmas Experience in the gorgeous Crystal Hall of the Elks Performing Arts Center! \nGeneral Admission – $25 \nVIP Experience – $35 includes guaranteed seating in the first two rows and a meet and greet with the band after the performance.
URL:https://macdougalstreetwest.com/event/encore-show-added-prescott-az-elks-performing-arts-center-crystal-hall-3rd-floor/
LOCATION:Elks Performing Arts Center’s Crystal Hall\, 117 E. Gurley St.\, Prescott\, AZ\, 86301\, United States
CATEGORIES:Public Performances
END:VEVENT
BEGIN:VEVENT
DTSTART;TZID=America/Phoenix:20211214T183000
DTEND;TZID=America/Phoenix:20211214T200000
DTSTAMP:20260419T194051
CREATED:20211102T030404Z
LAST-MODIFIED:20211111T182428Z
UID:2546-1639506600-1639512000@macdougalstreetwest.com
SUMMARY:Sold Out! Adding Encore Show! Prescott\, AZ  Elks Performing Arts Center's Crystal Hall
DESCRIPTION:Come celebrate the Holiday Season with A Peter\, Paul & Mary Christmas Experience in the gorgeous Crystal Hall of the Elks Performing Arts Center! \nGeneral Admission – $25 \nVIP Experience – $35 includes guaranteed seating in the first two rows and a meet and greet with the band after the performance.
URL:https://macdougalstreetwest.com/event/prescott-az-elks-performing-arts-centers-crystal-hall-3rd-floor/
LOCATION:Elks Performing Arts Center’s Crystal Hall\, 117 E. Gurley St.\, Prescott\, AZ\, 86301\, United States
CATEGORIES:Public Performances
END:VEVENT
BEGIN:VEVENT
DTSTART;TZID=America/Phoenix:20211204T180000
DTEND;TZID=America/Phoenix:20211204T193000
DTSTAMP:20260419T194051
CREATED:20210928T030812Z
LAST-MODIFIED:20210928T031145Z
UID:2541-1638640800-1638646200@macdougalstreetwest.com
SUMMARY:Tucson\, AZ area PP&M Christmas Shows - Two shows in one day!
DESCRIPTION:Coming back to Oro Valley near Tucson to perform two shows in one fabulous day! Can’t wait to see all our friends and to make new ones! \nIt will be a Peter\, Paul & Mary Christmas Experience! Reserve your table now!
URL:https://macdougalstreetwest.com/event/tucson-az-area-ppm-christmas-shows-two-in-one-day/
LOCATION:The GasLight Music Hall\, 13005 N. Oracle Rd. #165\, Ora Valley\, AZ\, AZ\, 85739\, United States
CATEGORIES:Public Performances
END:VEVENT
BEGIN:VEVENT
DTSTART;TZID=America/Phoenix:20211204T140000
DTEND;TZID=America/Phoenix:20211204T153000
DTSTAMP:20260419T194051
CREATED:20210928T025445Z
LAST-MODIFIED:20210928T031042Z
UID:2538-1638626400-1638631800@macdougalstreetwest.com
SUMMARY:Tucson\, AZ area PP&M Christmas shows - Two shows in one day!
DESCRIPTION:Coming back to Oro Valley near Tucson to perform two shows in one fabulous day! Can’t wait to see all friends and to make new ones! It will be a Peter\, Paul & Mary Christmas Experience! Reserve your table now!
URL:https://macdougalstreetwest.com/event/tucson-az-area-ppm-christmas-shows-two-shows-in-one-day/
LOCATION:The GasLight Music Hall\, 13005 N. Oracle Rd. #165\, Ora Valley\, AZ\, AZ\, 85739\, United States
CATEGORIES:Public Performances
END:VEVENT
BEGIN:VEVENT
DTSTART;TZID=America/Phoenix:20210909T190000
DTEND;TZID=America/Phoenix:20210909T203000
DTSTAMP:20260419T194051
CREATED:20210705T150932Z
LAST-MODIFIED:20210705T151141Z
UID:2519-1631214000-1631219400@macdougalstreetwest.com
SUMMARY:Prescott\, AZ - The Highland Center - The Folk Sessions\, 12th Summer In the Pines
DESCRIPTION:Click “View Event Website” or here to purchase tickets.
URL:https://macdougalstreetwest.com/event/prescott-az-the-highland-center-the-folk-sessions-12th-summer-in-the-pines-2/
LOCATION:Highlands Center for Natural History\, 1375 S. Walker Road\, Prescott\, AZ\, 86303\, United States
CATEGORIES:Public Performances
END:VEVENT
BEGIN:VEVENT
DTSTART;TZID=America/Phoenix:20210909T150000
DTEND;TZID=America/Phoenix:20210909T163000
DTSTAMP:20260419T194051
CREATED:20210705T150328Z
LAST-MODIFIED:20210705T151101Z
UID:2513-1631199600-1631205000@macdougalstreetwest.com
SUMMARY:Prescott\, AZ - The Highland Center - The Folk Sessions\, 12th Summer In the Pines
DESCRIPTION:Click “View Event Website” or here to purchase tickets.
URL:https://macdougalstreetwest.com/event/prescott-az-the-highland-center-the-folk-sessions-12th-summer-in-the-pines/
LOCATION:Highlands Center for Natural History\, 1375 S. Walker Road\, Prescott\, AZ\, 86303\, United States
CATEGORIES:Public Performances
END:VEVENT
BEGIN:VEVENT
DTSTART;TZID=America/Phoenix:20210815T150000
DTEND;TZID=America/Phoenix:20210815T170000
DTSTAMP:20260419T194051
CREATED:20210813T155233Z
LAST-MODIFIED:20210813T155233Z
UID:2532-1629039600-1629046800@macdougalstreetwest.com
SUMMARY:Scottsdale Plaza Resort Performance with The Folk Legacy Trio
DESCRIPTION: SUNDAY\,  August 15 – 3:00 pm\n\nThe Folk Legacy Trio is looking forward to sharing their music on August 15\, 2021\, 3:00 p.m. – at Scottsdale Plaza Resort.\n\n\n\nBonus : Friends of FLT\, MacDougal Street West\, one of the country’s premier Peter\, Paul & Mary tribute groups will open the show..\n\n\n\nTickets available at the door-$25.
URL:https://macdougalstreetwest.com/event/scottsdale-plaza-resort-performance-with-the-folk-legacy-trio/
LOCATION:Scottsdale Plaza Resort\, 7200 N Scottsdale Rd.\, Scottsdale\, AZ\, 85253\, United States
CATEGORIES:Public Performances
END:VEVENT
BEGIN:VEVENT
DTSTART;TZID=America/Phoenix:20210318T180000
DTEND;TZID=America/Phoenix:20210318T200000
DTSTAMP:20260419T194051
CREATED:20200211T221901Z
LAST-MODIFIED:20210221T202606Z
UID:2231-1616090400-1616097600@macdougalstreetwest.com
SUMMARY:Oro Valley\, AZ Gaslight Music Hall * Outdoor Show!
DESCRIPTION:Back again with Oro Valley friends! So much fun to be had!
URL:https://macdougalstreetwest.com/event/oro-valley-az-gaslight-music-hall-back-again/
LOCATION:The GasLight Music Hall\, 13005 N. Oracle Rd. #165\, Ora Valley\, AZ\, AZ\, 85739\, United States
CATEGORIES:Public Performances
END:VEVENT
BEGIN:VEVENT
DTSTART;TZID=America/Phoenix:20210317T150000
DTEND;TZID=America/Phoenix:20210317T163000
DTSTAMP:20260419T194051
CREATED:20201015T180923Z
LAST-MODIFIED:20201015T180923Z
UID:2360-1615993200-1615998600@macdougalstreetwest.com
SUMMARY:Green Valley\, AZ\, Two Sold Out Shows\, Community Performance and Arts Center
DESCRIPTION:CPAC “Bringing the Arts to Everyone” \nTwo show out shows\, 3:00 PM and 7:00 PM for a limited seating audience. Masks will be required during the performance do to the pandemic. If the weather is good these performances will be held outdoors. \n 
URL:https://macdougalstreetwest.com/event/green-valley-az-two-sold-out-shows-community-performance-and-arts-center/
LOCATION:Community Performance and Art Center\, 1250 W. Continental Rd.\, Green Valley\, AZ\, 85622\, United States
CATEGORIES:Public Performances
END:VEVENT
END:VCALENDAR