BEGIN:VCALENDAR
VERSION:2.0
PRODID:-//MacDougal Street West - ECPv6.15.20//NONSGML v1.0//EN
CALSCALE:GREGORIAN
METHOD:PUBLISH
X-WR-CALNAME:MacDougal Street West
X-ORIGINAL-URL:https://macdougalstreetwest.com
X-WR-CALDESC:Events for MacDougal Street West
REFRESH-INTERVAL;VALUE=DURATION:PT1H
X-Robots-Tag:noindex
X-PUBLISHED-TTL:PT1H
BEGIN:VTIMEZONE
TZID:America/Phoenix
BEGIN:STANDARD
TZOFFSETFROM:-0700
TZOFFSETTO:-0700
TZNAME:MST
DTSTART:20150101T000000
END:STANDARD
END:VTIMEZONE
BEGIN:VEVENT
DTSTART;TZID=America/Phoenix:20190209T190000
DTEND;TZID=America/Phoenix:20190209T210000
DTSTAMP:20260419T230916
CREATED:20181231T011341Z
LAST-MODIFIED:20181231T011341Z
UID:1892-1549738800-1549746000@macdougalstreetwest.com
SUMMARY:Elks Theatre\, Prescott\, AZ Folk Sessions 16th Concert- The Giants of Folk
DESCRIPTION: Saturday\, February 9\, 2019
URL:https://macdougalstreetwest.com/event/elks-theatre-prescott-az-folk-sessions-16th-concert-the-giants-of-folk/
LOCATION:Elks Theater and Performing Arts Center\, 117 E. Gurley St. #115\, Prescott\, AZ\, 86301\, United States
CATEGORIES:Public Performances
END:VEVENT
BEGIN:VEVENT
DTSTART;TZID=America/Phoenix:20190131T190000
DTEND;TZID=America/Phoenix:20190131T210000
DTSTAMP:20260419T230916
CREATED:20181015T222521Z
LAST-MODIFIED:20190115T004058Z
UID:1855-1548961200-1548968400@macdougalstreetwest.com
SUMMARY:St. Mark's United Methodist Church\, Tucson\, AZ
DESCRIPTION:We are truly looking forward to performing at St. Mark’s UMC and meeting these new friends!
URL:https://macdougalstreetwest.com/event/st-marks-united-methodist-church-tucson-az/
LOCATION:St. Mark’s United Methodist Church\, 1431 W. Magee Rd.\, Tucson\, AZ\, 85704\, United States
CATEGORIES:Public Performances
END:VEVENT
BEGIN:VEVENT
DTSTART;TZID=America/Phoenix:20190122T190000
DTEND;TZID=America/Phoenix:20190122T210000
DTSTAMP:20260419T230916
CREATED:20180109T023644Z
LAST-MODIFIED:20180601T185439Z
UID:1364-1548183600-1548190800@macdougalstreetwest.com
SUMMARY:Desert Sky Theater\, Quartzsite Improvement Association! Invited back!
DESCRIPTION:Can’t wait to see these wonderful people again and to meet the friends they bring! \n 
URL:https://macdougalstreetwest.com/event/back-desert-sky-theater-quartzsite-improvement-association/
LOCATION:AZ\, United States
CATEGORIES:Public Performances
END:VEVENT
BEGIN:VEVENT
DTSTART;TZID=America/Phoenix:20190120T190000
DTEND;TZID=America/Phoenix:20190120T211500
DTSTAMP:20260419T230916
CREATED:20180821T180730Z
LAST-MODIFIED:20180821T181526Z
UID:1811-1548010800-1548018900@macdougalstreetwest.com
SUMMARY:The Coffee Gallery Backstage\, Altadena\, CA
DESCRIPTION:Second stop on our first CA road trip! It’s going to be fun night!
URL:https://macdougalstreetwest.com/event/the-coffee-gallery-backstage-altadena-ca/
LOCATION:The Coffee Gallery Backstage\, 2029 Lake Ave.\, Altadena\, CA\, 91001\, United States
CATEGORIES:Public Performances
END:VEVENT
BEGIN:VEVENT
DTSTART;TZID=America/Phoenix:20190119T190000
DTEND;TZID=America/Phoenix:20190119T210000
DTSTAMP:20260419T230916
CREATED:20180820T191055Z
LAST-MODIFIED:20180822T185657Z
UID:1802-1547924400-1547931600@macdougalstreetwest.com
SUMMARY:Catalina Spa RV Resort\, Desert Hot Springs\, CA
DESCRIPTION:This will be the first of our California road trip. We are looking forward to meeting new friends in our neighboring state!
URL:https://macdougalstreetwest.com/event/catalina-spa-rv-resort-hot-springs-ca/
LOCATION:Catalina Spa RV Resort\, 18800 Corkill Rd.\, Desert Hot Springs\, CA\, 92241\, United States
CATEGORIES:Public Performances
END:VEVENT
BEGIN:VEVENT
DTSTART;TZID=America/Phoenix:20190105T190000
DTEND;TZID=America/Phoenix:20190105T203000
DTSTAMP:20260419T230916
CREATED:20180918T223825Z
LAST-MODIFIED:20181129T015336Z
UID:1828-1546714800-1546720200@macdougalstreetwest.com
SUMMARY:Mary D. Fisher Theatre\, Sedona\, AZ
DESCRIPTION:We are heading to beautiful Sedona\, AZ to perform at the Mary D. Fisher Theatre that is connected with the Sedona Film Festival. \nStarting the New Year of 2019 with new Sedona friends!
URL:https://macdougalstreetwest.com/event/mary-d-fisher-theatre-sedona-az/
LOCATION:Mary D. Fisher Theatre\, 2030 AZ-89A suite a-3\, Sedona\, AZ\, 86336\, United States
CATEGORIES:Public Performances
END:VEVENT
BEGIN:VEVENT
DTSTART;TZID=America/Phoenix:20181216T190000
DTEND;TZID=America/Phoenix:20181216T202000
DTSTAMP:20260419T230916
CREATED:20180501T215806Z
LAST-MODIFIED:20180601T190022Z
UID:1534-1544986800-1544991600@macdougalstreetwest.com
SUMMARY:RIVERSIDE RESORT HOTEL & CASINO\, DON’S CELEBRITY THEATRE *BACK AGAIN\, BUT THIS TIME FOR OUR PP&M CHRISTMAS EXPERIENCE!
DESCRIPTION:Come join us for a Peter\, Paul & Mary Christmas Experience at this iconic theatre! We will be here every night\, Thursday\, Friday\, Saturday and Sunday\, Dec. 13- Dec. 16\, 2018.
URL:https://macdougalstreetwest.com/event/back-again-to-riverside-resort-hotel-casino-dons-celebrity-theatre-4/
LOCATION:Riverside Resort Hotel and Casino\, PMB 500 1650 S. Casino Dr.\, Laughlin\, NV\, 89029\, United States
CATEGORIES:Public Performances
END:VEVENT
BEGIN:VEVENT
DTSTART;TZID=America/Phoenix:20181215T190000
DTEND;TZID=America/Phoenix:20181215T202000
DTSTAMP:20260419T230916
CREATED:20180501T215645Z
LAST-MODIFIED:20180601T185947Z
UID:1532-1544900400-1544905200@macdougalstreetwest.com
SUMMARY:RIVERSIDE RESORT HOTEL & CASINO\, DON’S CELEBRITY THEATRE *BACK AGAIN\, BUT THIS TIME FOR OUR PP&M CHRISTMAS EXPERIENCE!
DESCRIPTION:Come join us for a Peter\, Paul & Mary Christmas Experience at this iconic theatre! We will be here every night\, Thursday\, Friday\, Saturday and Sunday\, Dec. 13- Dec. 16\, 2018.
URL:https://macdougalstreetwest.com/event/back-again-to-riverside-resort-hotel-casino-dons-celebrity-theatre-3/
LOCATION:Riverside Resort Hotel and Casino\, PMB 500 1650 S. Casino Dr.\, Laughlin\, NV\, 89029\, United States
CATEGORIES:Public Performances
END:VEVENT
BEGIN:VEVENT
DTSTART;TZID=America/Phoenix:20181214T190000
DTEND;TZID=America/Phoenix:20181214T202000
DTSTAMP:20260419T230916
CREATED:20180501T215454Z
LAST-MODIFIED:20180601T185914Z
UID:1530-1544814000-1544818800@macdougalstreetwest.com
SUMMARY:RIVERSIDE RESORT HOTEL & CASINO\, DON’S CELEBRITY THEATRE *BACK AGAIN\, BUT THIS TIME FOR OUR PP&M CHRISTMAS EXPERIENCE!
DESCRIPTION:Come join us for a Peter\, Paul & Mary Christmas Experience at this iconic theatre! We will be here every night\, Thursday\, Friday\, Saturday and Sunday\, Dec. 13- Dec. 16\, 2018.
URL:https://macdougalstreetwest.com/event/back-again-to-riverside-resort-hotel-casino-dons-celebrity-theatre-2/
LOCATION:Riverside Resort Hotel and Casino\, PMB 500 1650 S. Casino Dr.\, Laughlin\, NV\, 89029\, United States
CATEGORIES:Public Performances
END:VEVENT
BEGIN:VEVENT
DTSTART;TZID=America/Phoenix:20181213T190000
DTEND;TZID=America/Phoenix:20181213T202000
DTSTAMP:20260419T230916
CREATED:20180501T215258Z
LAST-MODIFIED:20180601T184718Z
UID:1528-1544727600-1544732400@macdougalstreetwest.com
SUMMARY:Riverside Resort Hotel &  Casino\, Don's Celebrity Theatre back again\, but this time for our PP&M Christmas Experience!
DESCRIPTION:Come join us for a Peter\, Paul & Mary Christmas Experience at this iconic theatre! We will be here every night\, Thursday\, Friday\, Saturday and Sunday\, Dec. 13- Dec. 16\, 2018.
URL:https://macdougalstreetwest.com/event/back-again-to-riverside-resort-hotel-casino-dons-celebrity-theatre/
LOCATION:Riverside Resort Hotel and Casino\, PMB 500 1650 S. Casino Dr.\, Laughlin\, NV\, 89029\, United States
CATEGORIES:Public Performances
END:VEVENT
BEGIN:VEVENT
DTSTART;TZID=America/Phoenix:20181201T140000
DTEND;TZID=America/Phoenix:20181201T200000
DTSTAMP:20260419T230916
CREATED:20180213T183050Z
LAST-MODIFIED:20181123T172114Z
UID:1413-1543672800-1543694400@macdougalstreetwest.com
SUMMARY:GasLight Music Hall. Oro Valley\, AZ *Two Christmas Shows(SAME DAY) with featured guest Rick Doughtery!
DESCRIPTION:TWO SHOWS\, SAME DAY! 2:00 pm AND 6:00 pm shows \n \nTwo separate Peter\, Paul and Mary Christmas Experience with featured guest\, Rick Doughtery\, currently a member of The Folk Legends and formerly  of the Kingston Trio and the Limeliters!
URL:https://macdougalstreetwest.com/event/two-christmas-showssame-day-at-the-gaslight-music-hall-oro-valley-az-with-guest-artist-rick-doughtery/
LOCATION:The GasLight Music Hall\, 13005 N. Oracle Rd. #165\, Ora Valley\, AZ\, AZ\, 85739\, United States
CATEGORIES:Public Performances
END:VEVENT
BEGIN:VEVENT
DTSTART;TZID=America/Phoenix:20181129T193000
DTEND;TZID=America/Phoenix:20181129T213000
DTSTAMP:20260419T230916
CREATED:20180418T170157Z
LAST-MODIFIED:20181012T032100Z
UID:1482-1543519800-1543527000@macdougalstreetwest.com
SUMMARY:Higley Center for the Arts\, Gilbert\, AZ
DESCRIPTION:We are looking forward to seeing all of our Valley of the Sun friends here in this beautiful theater! \nTo purchase tickets:  Call 480-279-7190
URL:https://macdougalstreetwest.com/event/higley-center-for-the-arts-gilbert-az/
LOCATION:Higley Center for the Performing Arts\, 4132 E. Pecos Rd.\, Gilbert\, AZ\, 85295\, United States
CATEGORIES:Public Performances
END:VEVENT
BEGIN:VEVENT
DTSTART;TZID=America/Phoenix:20181102T190000
DTEND;TZID=America/Phoenix:20181102T210000
DTSTAMP:20260419T230916
CREATED:20180417T004609Z
LAST-MODIFIED:20190401T233235Z
UID:1463-1541185200-1541192400@macdougalstreetwest.com
SUMMARY:SOLD OUT SHOW! Elks Theater\, Prescott\, AZ sponsored by Lonely Street Productions
DESCRIPTION:The 1st Friday night of November\, 2018.
URL:https://macdougalstreetwest.com/event/elks-theater-prescott-az-sponsored-by-lonely-street-productions/
LOCATION:Elks Theater\, 117 E. Gurley St.\, Prescott\, AZ\, 86301\, United States
CATEGORIES:Public Performances
END:VEVENT
BEGIN:VEVENT
DTSTART;TZID=America/Phoenix:20180730T190000
DTEND;TZID=America/Phoenix:20180730T210000
DTSTAMP:20260419T230916
CREATED:20170927T040140Z
LAST-MODIFIED:20170927T040721Z
UID:1244-1532977200-1532984400@macdougalstreetwest.com
SUMMARY:The GasLight Theatre\, Tucson\, AZ * Public Show * Invite all your friends!
DESCRIPTION:We are returning to the Tuscan area again\, this time at both The GasLight Theatre and the GasLight Music Hall. \n 
URL:https://macdougalstreetwest.com/event/gaslight-theatre-tucson-az-public-show-invite-friends/
LOCATION:The GasLight Theatre\, 7010 E. Broadway Boulevard\, Tucson\, AZ\, 85710\, United States
CATEGORIES:Public Performances
END:VEVENT
BEGIN:VEVENT
DTSTART;TZID=America/Phoenix:20180309T180000
DTEND;TZID=America/Phoenix:20180309T210000
DTSTAMP:20260419T230916
CREATED:20180218T004706Z
LAST-MODIFIED:20180218T004706Z
UID:1420-1520618400-1520629200@macdougalstreetwest.com
SUMMARY:Back again to Thumb Butte Distillery\, Prescott\, AZ
DESCRIPTION:As we promised\, we are coming back again to Thumb Butte Distillery\, a very popular venue for live music here is Prescott. \nWe are looking forward to this relaxed evening with our Prescott area friends. See you all very soon!
URL:https://macdougalstreetwest.com/event/back-again-to-thumb-butte-distillery-prescott-az/
LOCATION:Thumb Butte Distillery\,  400 N Washington Ave\, Prescott\, AZ\, 86301\, United States
CATEGORIES:Public Performances
END:VEVENT
BEGIN:VEVENT
DTSTART;TZID=America/Phoenix:20171211T190000
DTEND;TZID=America/Phoenix:20171211T203000
DTSTAMP:20260419T230916
CREATED:20170905T185916Z
LAST-MODIFIED:20171129T173739Z
UID:1203-1513018800-1513024200@macdougalstreetwest.com
SUMMARY:Back again to Sunflower RV Resort\, Surprise\, AZ - this time for our Christmas Show!
DESCRIPTION:  \nA Peter\, Paul & Mary Christmas Experience \nFeaturing songs from Peter\, Paul and Mary: The Holiday Concert \nBuy your tickets early as we are expecting a sold out show! \nResidents $10.00 Guests $12.00 \nCall  (623) 583-0100 \nAddress- 16501 N. El Mirage Rd. \nSurprise\, AZ  85378 \n  \n 
URL:https://macdougalstreetwest.com/event/back-sunflower-rv-resort-surprise-az-time-christmas-show/
LOCATION:AZ
CATEGORIES:Public Performances
END:VEVENT
BEGIN:VEVENT
DTSTART;TZID=America/Phoenix:20171206T183000
DTEND;TZID=America/Phoenix:20171206T200000
DTSTAMP:20260419T230916
CREATED:20170517T005754Z
LAST-MODIFIED:20171004T154248Z
UID:1084-1512585000-1512590400@macdougalstreetwest.com
SUMMARY:A Peter\, Paul and Mary Christmas/Holiday Experience @ the Adult Center of Prescott Inc.
DESCRIPTION:Click below now to purchase tickets at $12 advanced ticketing price!\n\nBring all your friends and family for a Christmas Show to delight everyone as only a Peter\, Paul and Mary Holiday Experience can. \nDoors will open at 6:00 for this 90 minute show. Tickets $15.00 each at the door. 
URL:https://macdougalstreetwest.com/event/peter-paul-mary-christmasholiday-experience-adult-center-prescott-inc/
LOCATION:Adult Center of Prescott Inc.\, 1280 E. Rosser St. B\, Prescott\, AZ\, 86301\, United States
CATEGORIES:Public Performances
END:VEVENT
BEGIN:VEVENT
DTSTART;TZID=America/Phoenix:20171125T193000
DTEND;TZID=America/Phoenix:20171125T213000
DTSTAMP:20260419T230916
CREATED:20170927T042700Z
LAST-MODIFIED:20171014T224038Z
UID:1255-1511638200-1511645400@macdougalstreetwest.com
SUMMARY:Prescott Center for the Arts and Folk Sessions present A Thanksgiving "Sing-a-Long" Concert\, Prescott\, AZ
DESCRIPTION: 
URL:https://macdougalstreetwest.com/event/prescott-center-arts-folk-sessions-present-thanksgiving-sing-long-concert-prescott-az/
LOCATION:AZ
CATEGORIES:Public Performances
END:VEVENT
BEGIN:VEVENT
DTSTART;TZID=America/Phoenix:20170811T190000
DTEND;TZID=America/Phoenix:20170811T203000
DTSTAMP:20260419T230916
CREATED:20170426T190838Z
LAST-MODIFIED:20170528T150555Z
UID:1061-1502478000-1502483400@macdougalstreetwest.com
SUMMARY:The Listening Room Phoenix!
DESCRIPTION:This is more than a show\, this will be an unforgettable listening experience!  \nTickets:  www.thelisteningroomphoenix.com
URL:https://macdougalstreetwest.com/event/listening-room-phoenix/
LOCATION:The Listening Room Phoenix\, 4614 N. 7th St.\, Phoenix\, AZ\, 85014\, United States
CATEGORIES:Public Performances
END:VEVENT
BEGIN:VEVENT
DTSTART;TZID=America/Phoenix:20170717T193000
DTEND;TZID=America/Phoenix:20170717T210000
DTSTAMP:20260419T230916
CREATED:20170217T005104Z
LAST-MODIFIED:20170217T005421Z
UID:984-1500319800-1500325200@macdougalstreetwest.com
SUMMARY:Back to Prescott's Historic Palace Restaurant and Saloon
DESCRIPTION:MacDougal Street West is bringing the East to the West\, the wild\, wild west that is! The sounds of Greenwich Village will once again sound within the walls that have a rich history of the west\, here in Prescott\, AZ.   http://www.historicpalace.com \nMonday evening dinner reservations begin at 5:00 PM and the Peter\, Paul and Mary Experience begins at 7:30 PM. Make your reservations now to get a good seat.  Phone 928-541=1996 \nEast meets West
URL:https://macdougalstreetwest.com/event/back-to-prescotts-historic-palace-restaurant-and-saloon/
LOCATION:The Palace\, 120 S. Montezuma St.\, Prescott\, AZ\, 86303\, United States
CATEGORIES:Public Performances
END:VEVENT
BEGIN:VEVENT
DTSTART;TZID=America/Phoenix:20170715T190000
DTEND;TZID=America/Phoenix:20170715T210000
DTSTAMP:20260419T230916
CREATED:20170422T225951Z
LAST-MODIFIED:20170528T150224Z
UID:1054-1500145200-1500152400@macdougalstreetwest.com
SUMMARY:GasLight Music Hall\, Oro Valley\, AZ
DESCRIPTION:A Peter\, Paul & Mary Experience by yours truly\, MacDougal Street West \nTicket prices-  Adults $21.95\, Children $9.95\, Seniors/Students/Military $17.95 \nCall (520) 529-1000 
URL:https://macdougalstreetwest.com/event/gaslight-music-hall-oro-valley-az/
LOCATION:The GasLight Music Hall\, 13005 N. Oracle Rd. #165\, Ora Valley\, AZ\, AZ\, 85739\, United States
CATEGORIES:Public Performances
END:VEVENT
BEGIN:VEVENT
DTSTART;TZID=America/Phoenix:20170629T200000
DTEND;TZID=America/Phoenix:20170629T212000
DTSTAMP:20260419T230916
CREATED:20170201T215919Z
LAST-MODIFIED:20260205T151453Z
UID:882-1498766400-1498771200@macdougalstreetwest.com
SUMMARY:Riverside Resort Hotel & Casino\, Don's Celebrity Theatre presents "A Peter\, Paul & Mary Experience"!
DESCRIPTION:Come spend the July 4th weekend with us! Invite your friends too! \nReservations for Don’s Celebrity Theatre- (702) 298-2535 \n \nTicket prices $25.00\, locals receive $5.00 off\, $18.00 Group of 35+\, \nFor room and show package call 1-800-227-3849 or Click Here!
URL:https://macdougalstreetwest.com/event/riverside-resort-hotel-casino-dons-celebrity-theatre-presents-a-peter-paul-and-mary-experience/
LOCATION:Riverside Resort Hotel and Casino\, PMB 500 1650 S. Casino Dr.\, Laughlin\, NV\, 89029\, United States
CATEGORIES:Public Performances
END:VEVENT
BEGIN:VEVENT
DTSTART;TZID=America/Phoenix:20170625T170000
DTEND;TZID=America/Phoenix:20170625T193000
DTSTAMP:20260419T230916
CREATED:20170517T002908Z
LAST-MODIFIED:20170622T005747Z
UID:1076-1498410000-1498419000@macdougalstreetwest.com
SUMMARY:Sold out! Augie's Summertime Dinner Show presents "A Peter\, Paul and Mary Experience"!
DESCRIPTION:  Last years dinner show was a sold out crowd! \nMacDougal Street West:  A Peter\, Paul and Mary Experience will be returning again to Augie’s patio! Enjoy a fabulous meal and show!\nDinner begins at 5:00 pm with show beginning at 6:15  Call (928) 777-0330 for reservations  Seating is limited! \n  \n 
URL:https://macdougalstreetwest.com/event/augies-summertime-dinner-show-presents-peter-paul-mary-experience/
LOCATION:Augie’s\, 1721 E. State Hwy.\, Prescott\, AZ\, 86301
CATEGORIES:Public Performances
END:VEVENT
BEGIN:VEVENT
DTSTART;TZID=America/Phoenix:20170518T180000
DTEND;TZID=America/Phoenix:20170518T210000
DTSTAMP:20260419T230916
CREATED:20170214T034015Z
LAST-MODIFIED:20170517T010954Z
UID:946-1495130400-1495141200@macdougalstreetwest.com
SUMMARY:3rd Thursday Evening\, May 18th at Residence Inn
DESCRIPTION:We are looking forward to meeting up with friends and fans at one of our favorite spots! Take these evenings to enjoy this lovely patio and enjoy the fresh Prescott air. Kick back and take a walk down MacDougal Street with us to the sounds of Greenwich Village\, the 1st Thursday\, May\, 4\, and the 3rd Thursday\, May 18th. \nWe plan to bring appetizers to share. You are welcome to bring snacks\, appetizers\, pizza\, veggies etc. to share as well. Bring your friends and make new ones. \nThe Residence Inn will have their cash bar open as well.
URL:https://macdougalstreetwest.com/event/3rd-thursday-evening-may-18th-at-residence-inn/
LOCATION:Residence Inn\, 3599 Lee Circle\, Prescott\, AZ\, 86301\, United States
CATEGORIES:Public Performances
END:VEVENT
BEGIN:VEVENT
DTSTART;TZID=America/Phoenix:20170504T180000
DTEND;TZID=America/Phoenix:20170504T210000
DTSTAMP:20260419T230916
CREATED:20170214T032835Z
LAST-MODIFIED:20170214T032835Z
UID:942-1493920800-1493931600@macdougalstreetwest.com
SUMMARY:Back again to the Residence Inn\, Prescott\, two evenings in May!
DESCRIPTION:We are looking forward to meeting up with friends and fans at one of our favorite spots! Take these evenings to enjoy this lovely patio and enjoy the fresh Prescott air. Kick back and take a walk down MacDougal Street with us to the sounds of Greenwich Village\, the 1st Thursday\, May\, 4\, and the 3rd Thursday\, May 18th. \nWe plan to bring appetizers to share. You are welcome to bring snacks\, appetizers\, pizza\, veggies etc. to share as well. Bring your friends and make new ones. \nThe Residence Inn will have their cash bar open as well. \n 
URL:https://macdougalstreetwest.com/event/back-again-to-the-residence-inn-prescott-two-evenings-in-may/
LOCATION:Residence Inn\, 3599 Lee Circle\, Prescott\, AZ\, 86301\, United States
CATEGORIES:Public Performances
END:VEVENT
BEGIN:VEVENT
DTSTART;TZID=America/Phoenix:20170421T180000
DTEND;TZID=America/Phoenix:20170421T210000
DTSTAMP:20260419T230916
CREATED:20170215T221150Z
LAST-MODIFIED:20170215T221559Z
UID:959-1492797600-1492808400@macdougalstreetwest.com
SUMMARY:Thumb Butte Distillery - Friday night in Prescott
DESCRIPTION:Bring some snacks\, pizza\, veggies\, fruit to share\, if not just bring your sing-a-long voice. 
URL:https://macdougalstreetwest.com/event/thumb-butte-distillery-friday-night-in-prescott/
LOCATION:Thumb Butte Distillery\,  400 N Washington Ave\, Prescott\, AZ\, 86301\, United States
CATEGORIES:Public Performances
END:VEVENT
BEGIN:VEVENT
DTSTART;TZID=America/Phoenix:20170401T140000
DTEND;TZID=America/Phoenix:20170401T170000
DTSTAMP:20260419T230916
CREATED:20170207T175139Z
LAST-MODIFIED:20170215T222752Z
UID:906-1491055200-1491066000@macdougalstreetwest.com
SUMMARY:No kidding or fooling\, April 1st @ Far From Folsom\, Prescott
DESCRIPTION:Come join the fun in the Folsom backyard from 2-5:00 PM. \nWe will take you back in time to the heyday of Greenwich Village\, New York\, to the Street of MacDougal (West that is).
URL:https://macdougalstreetwest.com/event/no-kidding-or-fooling-april-1st-far-from-folsom/
LOCATION:Far From Folsom\, 214 S. Montezuma St.\, Prescott\, AZ\, 86303\, United States
CATEGORIES:Public Performances
END:VEVENT
BEGIN:VEVENT
DTSTART;TZID=America/Phoenix:20170218T190000
DTEND;TZID=America/Phoenix:20170218T203000
DTSTAMP:20260419T230916
CREATED:20170103T013315Z
LAST-MODIFIED:20170213T163958Z
UID:831-1487444400-1487449800@macdougalstreetwest.com
SUMMARY:Pine Shadows Village in Cottonwood
DESCRIPTION:MacDougal Street West is coming to Cottonwood to meet our new friends at Pine Shadows! \nWe will be performing our 90 minute Peter\, Paul and Mary tribute show to the Pine Shadows residents and if there is available space\, they will be opening the venue up to the public as well.
URL:https://macdougalstreetwest.com/event/pine-shadows-village-in-cottonwood/
LOCATION:Pine Shadows Village\, 2050 W. State Route 89A\, Cottonwood\, AZ\, 86326\, United States
CATEGORIES:Public Performances
END:VEVENT
BEGIN:VEVENT
DTSTART;TZID=America/Phoenix:20161228T183000
DTEND;TZID=America/Phoenix:20161228T200000
DTSTAMP:20260419T230916
CREATED:20161214T095636Z
LAST-MODIFIED:20161227T140540Z
UID:806-1482949800-1482955200@macdougalstreetwest.com
SUMMARY:MacDougal Street West with Featured Artist Rick Dougherty of the Kingston Trio!
DESCRIPTION:Big news for all of you Kingston Trio fans in the Prescott area and b-e-y-o-n-d! Our band M.S.W.\, has the honor of having our good friend Rick Dougherty (the fabulous tenor and guitarist of the current Kingston Trio) joining us for one night only\, right here in Prescott as our featured artist. \n 
URL:https://macdougalstreetwest.com/event/macdougal-street-west-with-featured-artist-rick-dougherty-of-the-kingston-trio/
LOCATION:Adult Center of Prescott Inc.\, 1280 E. Rosser St. B\, Prescott\, AZ\, 86301\, United States
CATEGORIES:Public Performances
END:VEVENT
BEGIN:VEVENT
DTSTART;TZID=America/Phoenix:20161221T180000
DTEND;TZID=America/Phoenix:20161221T203000
DTSTAMP:20260419T230916
CREATED:20161221T225147Z
LAST-MODIFIED:20161221T225147Z
UID:814-1482343200-1482352200@macdougalstreetwest.com
SUMMARY:SOLD OUT Additional Show Added Wednesday\, Dec. 21 at Augie's
DESCRIPTION:Make your reservations early for this special time together! 928-777-0330 \nPeter\, Paul and Mary Christmas Tribute Dinner Show – Wednesday\, Dec.21th \nDinner at 6:00 pm with show following at 7:15 pm \nDinner includes salad\, entree from selected menu\, coffee\, tea or soda\, tax & gratuity.
URL:https://macdougalstreetwest.com/event/sold-out-additional-show-added-wednesday-dec-21-at-augies/
LOCATION:AZ
CATEGORIES:Public Performances
END:VEVENT
END:VCALENDAR