BEGIN:VCALENDAR
VERSION:2.0
PRODID:-//MacDougal Street West - ECPv6.15.20//NONSGML v1.0//EN
CALSCALE:GREGORIAN
METHOD:PUBLISH
X-WR-CALNAME:MacDougal Street West
X-ORIGINAL-URL:https://macdougalstreetwest.com
X-WR-CALDESC:Events for MacDougal Street West
REFRESH-INTERVAL;VALUE=DURATION:PT1H
X-Robots-Tag:noindex
X-PUBLISHED-TTL:PT1H
BEGIN:VTIMEZONE
TZID:America/Phoenix
BEGIN:STANDARD
TZOFFSETFROM:-0700
TZOFFSETTO:-0700
TZNAME:MST
DTSTART:20180101T000000
END:STANDARD
END:VTIMEZONE
BEGIN:VEVENT
DTSTART;TZID=America/Phoenix:20241109T180000
DTEND;TZID=America/Phoenix:20241109T193000
DTSTAMP:20260420T005808
CREATED:20240906T224952Z
LAST-MODIFIED:20240924T133312Z
UID:3076-1731175200-1731180600@macdougalstreetwest.com
SUMMARY:Buckeye\, AZ - Sundance Adult Village
DESCRIPTION:
URL:https://macdougalstreetwest.com/event/buckeye-az-sundance-adult-village/
LOCATION:Buckeye\, AZ – Sundance Adult Center\, 930 S. Sundance Pkwy\, Buckeye\, 85326\, United States
CATEGORIES:Private Party Show
ATTACH;FMTTYPE=image/jpeg:https://macdougalstreetwest.com/wp-content/uploads/2024/09/Unknown-4-4.jpeg
END:VEVENT
BEGIN:VEVENT
DTSTART;TZID=America/Phoenix:20240611T190000
DTEND;TZID=America/Phoenix:20240611T203000
DTSTAMP:20260420T005808
CREATED:20231006T230317Z
LAST-MODIFIED:20231006T230317Z
UID:2972-1718132400-1718137800@macdougalstreetwest.com
SUMMARY:Sun Lakes\, AZ - Cottonwood Country Club
DESCRIPTION:Anxious to met these new Peter\, Paul & Mary music fans!
URL:https://macdougalstreetwest.com/event/sun-lakes-az-cottonwood-country-club/
LOCATION:Cottonwood Counrty Club\, 25219 S. EJ Robson Blvd.\, Sun Lakes\, 85248\, United States
CATEGORIES:Private Party Show
END:VEVENT
BEGIN:VEVENT
DTSTART;TZID=America/Phoenix:20210911T180000
DTEND;TZID=America/Phoenix:20210911T193000
DTSTAMP:20260420T005808
CREATED:20210607T222956Z
LAST-MODIFIED:20210607T223149Z
UID:2479-1631383200-1631388600@macdougalstreetwest.com
SUMMARY:Prescott Valley\, AZ  Private Performance
DESCRIPTION:
URL:https://macdougalstreetwest.com/event/prescott-valley-az-private-event/
LOCATION:AZ\, United States
CATEGORIES:Private Party Show
END:VEVENT
BEGIN:VEVENT
DTSTART;TZID=America/Phoenix:20210804T180000
DTEND;TZID=America/Phoenix:20210804T190000
DTSTAMP:20260420T005808
CREATED:20210324T013502Z
LAST-MODIFIED:20210324T013533Z
UID:2418-1628100000-1628103600@macdougalstreetwest.com
SUMMARY:Prescott\, AZ Private Performance
DESCRIPTION:
URL:https://macdougalstreetwest.com/event/prescott-az-private-performance/
LOCATION:AZ\, United States
CATEGORIES:Private Party Show
END:VEVENT
BEGIN:VEVENT
DTSTART;TZID=America/Phoenix:20200927T170000
DTEND;TZID=America/Phoenix:20200927T180000
DTSTAMP:20260420T005808
CREATED:20200918T162035Z
LAST-MODIFIED:20200918T162932Z
UID:2318-1601226000-1601229600@macdougalstreetwest.com
SUMMARY:Prescott Valley\, Pronghorn Ranch Community OUTSIDE Concert (not open to the public)
DESCRIPTION:This will be our first time performing for our newest friends at Pronghorn Ranch! Please remember your facemarks and social distancing. We want you all to feel safe and be safe during these trying times.
URL:https://macdougalstreetwest.com/event/prescott-valley-pronghorn-ranch-community-outside-concert-not-open-to-the-public/
LOCATION:Pronghorn Ranch\, 7051 N. Antelope\, Prescott Valley\, AZ\, 86315\, United States
CATEGORIES:Private Party Show
END:VEVENT
BEGIN:VEVENT
DTSTART;TZID=America/Phoenix:20191112T174500
DTEND;TZID=America/Phoenix:20191112T193000
DTSTAMP:20260420T005808
CREATED:20190513T172824Z
LAST-MODIFIED:20190513T172824Z
UID:1987-1573580700-1573587000@macdougalstreetwest.com
SUMMARY:Scottsdale\, AZ  at Mirage Crossing\, Private Party
DESCRIPTION:
URL:https://macdougalstreetwest.com/event/scottsdale-az-at-mirage-crossing-private-party/
LOCATION:Mirage Crossing\, 11500 E. Cochise Dr.\, Scottsdale\, AZ\, 85259\, United States
CATEGORIES:Private Party Show
END:VEVENT
BEGIN:VEVENT
DTSTART;TZID=America/Phoenix:20190915T160000
DTEND;TZID=America/Phoenix:20190915T180000
DTSTAMP:20260420T005808
CREATED:20190905T232158Z
LAST-MODIFIED:20190905T232158Z
UID:2084-1568563200-1568570400@macdougalstreetwest.com
SUMMARY:Prescott Valley\, AZ  Private Performance
DESCRIPTION:
URL:https://macdougalstreetwest.com/event/prescott-valley-az-private-performance/
LOCATION:AZ\, United States
CATEGORIES:Private Party Show
END:VEVENT
END:VCALENDAR