BEGIN:VCALENDAR
VERSION:2.0
PRODID:-//MacDougal Street West - ECPv6.15.20//NONSGML v1.0//EN
CALSCALE:GREGORIAN
METHOD:PUBLISH
X-WR-CALNAME:MacDougal Street West
X-ORIGINAL-URL:https://macdougalstreetwest.com
X-WR-CALDESC:Events for MacDougal Street West
REFRESH-INTERVAL;VALUE=DURATION:PT1H
X-Robots-Tag:noindex
X-PUBLISHED-TTL:PT1H
BEGIN:VTIMEZONE
TZID:America/Phoenix
BEGIN:STANDARD
TZOFFSETFROM:-0700
TZOFFSETTO:-0700
TZNAME:MST
DTSTART:20190101T000000
END:STANDARD
END:VTIMEZONE
BEGIN:VEVENT
DTSTART;TZID=America/Phoenix:20240907T183000
DTEND;TZID=America/Phoenix:20240907T200000
DTSTAMP:20260419T213252
CREATED:20240109T215209Z
LAST-MODIFIED:20240109T215209Z
UID:3004-1725733800-1725739200@macdougalstreetwest.com
SUMMARY:Prescott Valley\, AZ Private show
DESCRIPTION:
URL:https://macdougalstreetwest.com/event/prescott-valley-az-private-show/
CATEGORIES:Private party
END:VEVENT
BEGIN:VEVENT
DTSTART;TZID=America/Phoenix:20240612T190000
DTEND;TZID=America/Phoenix:20240612T203000
DTSTAMP:20260419T213252
CREATED:20240416T033846Z
LAST-MODIFIED:20240416T033958Z
UID:3043-1718218800-1718224200@macdougalstreetwest.com
SUMMARY:Sun City West - Corte Bella Country Club
DESCRIPTION:Such a delight to perform at the beautiful Corte Bella Country Club. Love meeting new friends!
URL:https://macdougalstreetwest.com/event/sun-city-west-corte-bella-country-club/
LOCATION:Corta Bella Country Club\, 22143 N. Mission Dr.\, Sun City West\, AZ\, 85375
CATEGORIES:Private party
END:VEVENT
BEGIN:VEVENT
DTSTART;TZID=America/Phoenix:20231213T170000
DTEND;TZID=America/Phoenix:20231213T183000
DTSTAMP:20260419T213252
CREATED:20231006T221121Z
LAST-MODIFIED:20231006T221121Z
UID:2968-1702486800-1702492200@macdougalstreetwest.com
SUMMARY:Prescott\, AZ Private Party
DESCRIPTION:
URL:https://macdougalstreetwest.com/event/prescott-az-private-party/
CATEGORIES:Private party
END:VEVENT
BEGIN:VEVENT
DTSTART;TZID=America/Phoenix:20230125T190000
DTEND;TZID=America/Phoenix:20230125T203000
DTSTAMP:20260419T213252
CREATED:20220308T222926Z
LAST-MODIFIED:20220504T235458Z
UID:2632-1674673200-1674678600@macdougalstreetwest.com
SUMMARY:Tucson\, AZ Voyager RV Resort
DESCRIPTION:
URL:https://macdougalstreetwest.com/event/tucson-az-voyager-rv-resort-tickets-not-for-sale-yet/
LOCATION:Voyager RV Resort\, 8701 S. Kolb Rd.\, Tucson\, AZ\, 85756\, United States
CATEGORIES:Private party
END:VEVENT
BEGIN:VEVENT
DTSTART;TZID=America/Phoenix:20221016T190000
DTEND;TZID=America/Phoenix:20221016T203000
DTSTAMP:20260419T213252
CREATED:20220308T221516Z
LAST-MODIFIED:20220308T221516Z
UID:2623-1665946800-1665952200@macdougalstreetwest.com
SUMMARY:Private Party- Prescott Valley\, AZ
DESCRIPTION:
URL:https://macdougalstreetwest.com/event/private-party-prescott-valley-az/
LOCATION:AZ\, United States
CATEGORIES:Private party
END:VEVENT
BEGIN:VEVENT
DTSTART;TZID=America/Phoenix:20220331T183000
DTEND;TZID=America/Phoenix:20220331T200000
DTSTAMP:20260419T213252
CREATED:20220303T221742Z
LAST-MODIFIED:20220303T221845Z
UID:2611-1648751400-1648756800@macdougalstreetwest.com
SUMMARY:Tucson\, AZ St. Marks United Methodist Church
DESCRIPTION:Back to visit our St. Mark’s United Methodist Friends. Percentage of love offering will be going to their music program.
URL:https://macdougalstreetwest.com/event/tucson-az-st-marks-united-methodist-church/
LOCATION:St. Mark’s United Methodist Church\, 1431 W. Magee Rd.\, Tucson\, AZ\, 85704\, United States
CATEGORIES:Private party
END:VEVENT
BEGIN:VEVENT
DTSTART;TZID=America/Phoenix:20210602T180000
DTEND;TZID=America/Phoenix:20210602T190000
DTSTAMP:20260419T213252
CREATED:20210324T012941Z
LAST-MODIFIED:20210324T014919Z
UID:2416-1622656800-1622660400@macdougalstreetwest.com
SUMMARY:Prescott\, AZ Private Performance
DESCRIPTION:
URL:https://macdougalstreetwest.com/event/prescott-az-private-performance-2/
LOCATION:AZ\, United States
CATEGORIES:Private party
END:VEVENT
BEGIN:VEVENT
DTSTART;TZID=America/Phoenix:20200925T190000
DTEND;TZID=America/Phoenix:20200925T203000
DTSTAMP:20260419T213252
CREATED:20191231T215638Z
LAST-MODIFIED:20200918T162840Z
UID:2183-1601060400-1601065800@macdougalstreetwest.com
SUMMARY:Prescott Valley\, AZ  Private community party * Cancelled because of pandemic\, to be rescheduled for another time.
DESCRIPTION:
URL:https://macdougalstreetwest.com/event/prescott-valley-az-private-party/
LOCATION:AZ\, United States
CATEGORIES:Private party
END:VEVENT
END:VCALENDAR